BEGIN:VCALENDAR
VERSION:2.0
PRODID:-//midwestchildcare.org//NONSGML kigkonsult.se iCalcreator 2.30.10//
CALSCALE:GREGORIAN
METHOD:PUBLISH
UID:e43d9f9f-7c0c-403a-b0d4-50147c38ad34
X-WR-CALDESC:Pet This Book! | An Interactive Preschool Class\n\nYou are inv
 ited to a Zoom meeting.When: Jan 30\, 2025 10:00 AM Central Time (US and C
 anada)\n\nRegister in advance for this meeting:\nhttps://us02web.zoom.us/m
 eeting/register/MRriUFzfQlempC3ETPm9sg\n\nAfter registering\, you will rec
 eive a confirmation email containing information about joining the meeting
 .
X-WR-RELCALID:254891d80db34ceb3509ddcbeed5b544
X-WR-TIMEZONE:America/Chicago
BEGIN:VTIMEZONE
TZID:America/Chicago
BEGIN:STANDARD
TZNAME:CST
DTSTART:20241103T020000
TZOFFSETFROM:-0500
TZOFFSETTO:-0600
RDATE:20251102T020000
END:STANDARD
BEGIN:DAYLIGHT
TZNAME:CDT
DTSTART:20240310T020000
TZOFFSETFROM:-0600
TZOFFSETTO:-0500
RDATE:20250309T020000
RDATE:20260308T020000
END:DAYLIGHT
END:VTIMEZONE
BEGIN:VEVENT
UID:87f68605-b4a9-4495-a57e-a18a1bb43890
DTSTAMP:20260421T044820Z
DESCRIPTION:Pet This Book! | An Interactive Preschool Class\n\nYou are invi
 ted to a Zoom meeting.When: Jan 30\, 2025 10:00 AM Central Time (US and Ca
 nada)\n\nRegister in advance for this meeting:\nhttps://us02web.zoom.us/me
 eting/register/MRriUFzfQlempC3ETPm9sg\n\nAfter registering\, you will rece
 ive a confirmation email containing information about joining the meeting.
DTSTART;TZID=America/Chicago:20250130T100000
DTEND;TZID=America/Chicago:20250130T110000
LOCATION:https://us02web.zoom.us/meeting/register/MRriUFzfQlempC3ETPm9sg
SUMMARY:Pet This Book! | An Interactive Preschool Class
END:VEVENT
END:VCALENDAR
