BEGIN:VCALENDAR
VERSION:2.0
PRODID:-//midwestchildcare.org//NONSGML kigkonsult.se iCalcreator 2.30.10//
CALSCALE:GREGORIAN
METHOD:PUBLISH
UID:c862c291-9c0d-43e7-911e-b87ab66f1b3f
X-WR-CALDESC:Pet This Book! | An Interactive Preschool Class\n\nYou are inv
 ited to a Zoom meeting.When: Jan 30\, 2025 09:30 AM Central Time (US and C
 anada)\n\nRegister in advance for this meeting:\nhttps://us02web.zoom.us/m
 eeting/register/PgEVpSt6TRCe0zgvtC39Tw\n\nAfter registering\, you will rec
 eive a confirmation email containing information about joining the meeting
 .
X-WR-RELCALID:1f8954680301bcb971efe471582eca52
X-WR-TIMEZONE:America/Chicago
BEGIN:VTIMEZONE
TZID:America/Chicago
BEGIN:STANDARD
TZNAME:CST
DTSTART:20241103T020000
TZOFFSETFROM:-0500
TZOFFSETTO:-0600
RDATE:20251102T020000
END:STANDARD
BEGIN:DAYLIGHT
TZNAME:CDT
DTSTART:20240310T020000
TZOFFSETFROM:-0600
TZOFFSETTO:-0500
RDATE:20250309T020000
RDATE:20260308T020000
END:DAYLIGHT
END:VTIMEZONE
BEGIN:VEVENT
UID:aa916f35-48e4-4c06-879d-0027819938cd
DTSTAMP:20260421T051151Z
DESCRIPTION:Pet This Book! | An Interactive Preschool Class\n\nYou are invi
 ted to a Zoom meeting.When: Jan 30\, 2025 09:30 AM Central Time (US and Ca
 nada)\n\nRegister in advance for this meeting:\nhttps://us02web.zoom.us/me
 eting/register/PgEVpSt6TRCe0zgvtC39Tw\n\nAfter registering\, you will rece
 ive a confirmation email containing information about joining the meeting.
DTSTART;TZID=America/Chicago:20250130T093000
DTEND;TZID=America/Chicago:20250130T103000
LOCATION:https://us02web.zoom.us/meeting/register/PgEVpSt6TRCe0zgvtC39Tw
SUMMARY:Pet This Book! | An Interactive Preschool Class
END:VEVENT
END:VCALENDAR
