BEGIN:VCALENDAR
VERSION:2.0
PRODID:-//midwestchildcare.org//NONSGML kigkonsult.se iCalcreator 2.30.10//
CALSCALE:GREGORIAN
METHOD:PUBLISH
UID:06530a1e-43b9-47de-b151-c486fc1d1001
X-WR-CALDESC:Pet This Book! | An Interactive Preschool Class\n\nYou are inv
 ited to a Zoom meeting.\nWhen: Jan 30\, 2025 09:00 AM Central Time (US and
  Canada)\n\nRegister in advance for this meeting:\nhttps://us02web.zoom.us
 /meeting/register/mTXhs2DnR_-MBFYeUaHQOQ\n\nAfter registering\, you will r
 eceive a confirmation email containing information about joining the meeti
 ng.
X-WR-RELCALID:26da4010a81557d4d0dd81823f892bae
X-WR-TIMEZONE:America/Chicago
BEGIN:VTIMEZONE
TZID:America/Chicago
BEGIN:STANDARD
TZNAME:CST
DTSTART:20241103T020000
TZOFFSETFROM:-0500
TZOFFSETTO:-0600
RDATE:20251102T020000
END:STANDARD
BEGIN:DAYLIGHT
TZNAME:CDT
DTSTART:20240310T020000
TZOFFSETFROM:-0600
TZOFFSETTO:-0500
RDATE:20250309T020000
RDATE:20260308T020000
END:DAYLIGHT
END:VTIMEZONE
BEGIN:VEVENT
UID:56601100-dbd6-4db7-9aef-a5159f4f9552
DTSTAMP:20260421T052156Z
DESCRIPTION:Pet This Book! | An Interactive Preschool Class\n\nYou are invi
 ted to a Zoom meeting.\nWhen: Jan 30\, 2025 09:00 AM Central Time (US and 
 Canada)\n\nRegister in advance for this meeting:\nhttps://us02web.zoom.us/
 meeting/register/mTXhs2DnR_-MBFYeUaHQOQ\n\nAfter registering\, you will re
 ceive a confirmation email containing information about joining the meetin
 g.
DTSTART;TZID=America/Chicago:20250130T123000
DTEND;TZID=America/Chicago:20250130T133000
LOCATION:https://us02web.zoom.us/meeting/register/mTXhs2DnR_-MBFYeUaHQOQ
SUMMARY:Pet This Book! | An Interactive Preschool Class
END:VEVENT
END:VCALENDAR
