BEGIN:VCALENDAR
VERSION:2.0
PRODID:-//midwestchildcare.org//NONSGML kigkonsult.se iCalcreator 2.30.10//
CALSCALE:GREGORIAN
METHOD:PUBLISH
UID:8bd56b7f-dcbf-456b-81b5-4ab7a0d448de
X-WR-CALDESC:Stink! | An Interactive Preschool Class\n\nYou are invited to 
 a Zoom meeting.When: Jan 23\, 2025 10:00 AM Central Time (US and Canada)\n
 \nRegister in advance for this meeting:\nhttps://us02web.zoom.us/meeting/r
 egister/xUhULNfIQmqWs70kxR7VuQ\n\nAfter registering\, you will receive a c
 onfirmation email containing information about joining the meeting.
X-WR-RELCALID:f3e4114ff17488e59440cd9540e407f7
X-WR-TIMEZONE:America/Chicago
BEGIN:VTIMEZONE
TZID:America/Chicago
BEGIN:STANDARD
TZNAME:CST
DTSTART:20241103T020000
TZOFFSETFROM:-0500
TZOFFSETTO:-0600
RDATE:20251102T020000
END:STANDARD
BEGIN:DAYLIGHT
TZNAME:CDT
DTSTART:20240310T020000
TZOFFSETFROM:-0600
TZOFFSETTO:-0500
RDATE:20250309T020000
RDATE:20260308T020000
END:DAYLIGHT
END:VTIMEZONE
BEGIN:VEVENT
UID:07d53471-d883-47f5-b1f3-cf593840bfc9
DTSTAMP:20260421T045300Z
DESCRIPTION:Stink! | An Interactive Preschool Class\n\nYou are invited to a
  Zoom meeting.When: Jan 23\, 2025 10:00 AM Central Time (US and Canada)\n
 \nRegister in advance for this meeting:\nhttps://us02web.zoom.us/meeting/r
 egister/xUhULNfIQmqWs70kxR7VuQ\n\nAfter registering\, you will receive a c
 onfirmation email containing information about joining the meeting.
DTSTART;TZID=America/Chicago:20250123T100000
DTEND;TZID=America/Chicago:20250123T110000
LOCATION:https://us02web.zoom.us/meeting/register/xUhULNfIQmqWs70kxR7VuQ
SUMMARY:Stink! | An Interactive Preschool Class
END:VEVENT
END:VCALENDAR
