BEGIN:VCALENDAR
VERSION:2.0
PRODID:-//midwestchildcare.org//NONSGML kigkonsult.se iCalcreator 2.30.10//
CALSCALE:GREGORIAN
METHOD:PUBLISH
UID:17e5bf57-a7f4-48f1-9aff-0a962b47b46f
X-WR-CALDESC:Stink! | An Interactive Preschool Class\n\nYou are invited to 
 a Zoom meeting.When: Jan 23\, 2025 09:30 AM Central Time (US and Canada)\n
 \nRegister in advance for this meeting:\nhttps://us02web.zoom.us/meeting/r
 egister/Cu8s6P7-TyKDwejcuJpKuA\n\nAfter registering\, you will receive a c
 onfirmation email containing information about joining the meeting.
X-WR-RELCALID:e938a6b8a42e007a92658ed34fa3ea94
X-WR-TIMEZONE:America/Chicago
BEGIN:VTIMEZONE
TZID:America/Chicago
BEGIN:STANDARD
TZNAME:CST
DTSTART:20241103T020000
TZOFFSETFROM:-0500
TZOFFSETTO:-0600
RDATE:20251102T020000
END:STANDARD
BEGIN:DAYLIGHT
TZNAME:CDT
DTSTART:20240310T020000
TZOFFSETFROM:-0600
TZOFFSETTO:-0500
RDATE:20250309T020000
RDATE:20260308T020000
END:DAYLIGHT
END:VTIMEZONE
BEGIN:VEVENT
UID:e95724bc-bd07-4fb3-8256-2fbe35308cc1
DTSTAMP:20260421T044626Z
DESCRIPTION:Stink! | An Interactive Preschool Class\n\nYou are invited to a
  Zoom meeting.When: Jan 23\, 2025 09:30 AM Central Time (US and Canada)\n
 \nRegister in advance for this meeting:\nhttps://us02web.zoom.us/meeting/r
 egister/Cu8s6P7-TyKDwejcuJpKuA\n\nAfter registering\, you will receive a c
 onfirmation email containing information about joining the meeting.
DTSTART;TZID=America/Chicago:20250123T093000
DTEND;TZID=America/Chicago:20250123T103000
LOCATION:https://us02web.zoom.us/meeting/register/Cu8s6P7-TyKDwejcuJpKuA
SUMMARY:Stink! | An Interactive Preschool Class
END:VEVENT
END:VCALENDAR
