BEGIN:VCALENDAR
VERSION:2.0
PRODID:-//midwestchildcare.org//NONSGML kigkonsult.se iCalcreator 2.30.10//
CALSCALE:GREGORIAN
METHOD:PUBLISH
UID:62a6308f-cfc4-4131-b4c5-34d7cee4fe0f
X-WR-CALDESC:Similarities and Differences of Goat\,Cow and Soy Infant Formu
 la | 1-Hour Educational Webinar\n\nPlease register for Similarities and Di
 fferences of Goat\,Cow and Soy Infant Formula on Jan 20\, 2025 7:00 PM CST
  at:\n\nhttps://attendee.gotowebinar.com/register/1525205590508956766\n\nA
 fter registering\, you will receive a confirmation email containing inform
 ation about joining the webinar
X-WR-RELCALID:56c1f48d7bdc0c9b36cca0456b915b48
X-WR-TIMEZONE:America/Chicago
BEGIN:VTIMEZONE
TZID:America/Chicago
BEGIN:STANDARD
TZNAME:CST
DTSTART:20241103T020000
TZOFFSETFROM:-0500
TZOFFSETTO:-0600
RDATE:20251102T020000
END:STANDARD
BEGIN:DAYLIGHT
TZNAME:CDT
DTSTART:20240310T020000
TZOFFSETFROM:-0600
TZOFFSETTO:-0500
RDATE:20250309T020000
RDATE:20260308T020000
END:DAYLIGHT
END:VTIMEZONE
BEGIN:VEVENT
UID:7ff693da-ffe0-4dea-9427-a20c90da7184
DTSTAMP:20260421T051406Z
DESCRIPTION:Similarities and Differences of Goat\,Cow and Soy Infant Formul
 a | 1-Hour Educational Webinar\n\nPlease register for Similarities and Dif
 ferences of Goat\,Cow and Soy Infant Formula on Jan 20\, 2025 7:00 PM CST 
 at:\n\nhttps://attendee.gotowebinar.com/register/1525205590508956766\n\nAf
 ter registering\, you will receive a confirmation email containing informa
 tion about joining the webinar
DTSTART;TZID=America/Chicago:20250120T190000
DTEND;TZID=America/Chicago:20250120T200000
LOCATION:https://attendee.gotowebinar.com/register/1525205590508956766
SUMMARY:Similarities and Differences of Goat\,Cow and Soy Infant Formula | 
 1-Hour Educational Webinar
END:VEVENT
END:VCALENDAR
