BEGIN:VCALENDAR
VERSION:2.0
PRODID:-//midwestchildcare.org//NONSGML kigkonsult.se iCalcreator 2.30.10//
CALSCALE:GREGORIAN
METHOD:PUBLISH
UID:8a63e5b8-239b-4b21-9fd3-8e416ad33391
X-WR-CALDESC:Bunny Slope | An Interactive Preschool Class\n\nYou are invite
 d to a Zoom meeting.\nWhen: Jan 16\, 2025 10:00 AM Central Time (US and Ca
 nada)\n\nRegister in advance for this meeting:\nhttps://us02web.zoom.us/me
 eting/register/_XTqD3Y5QmWHU9Aaht6Dvg\n\nAfter registering\, you will rece
 ive a confirmation email containing information about joining the meeting.
X-WR-RELCALID:08cbd4329383d9bccd5b1e950e2655ad
X-WR-TIMEZONE:America/Chicago
BEGIN:VTIMEZONE
TZID:America/Chicago
BEGIN:STANDARD
TZNAME:CST
DTSTART:20241103T020000
TZOFFSETFROM:-0500
TZOFFSETTO:-0600
RDATE:20251102T020000
END:STANDARD
BEGIN:DAYLIGHT
TZNAME:CDT
DTSTART:20240310T020000
TZOFFSETFROM:-0600
TZOFFSETTO:-0500
RDATE:20250309T020000
RDATE:20260308T020000
END:DAYLIGHT
END:VTIMEZONE
BEGIN:VEVENT
UID:a77a93b6-5526-4c97-b819-fb11b1ddb8d1
DTSTAMP:20260421T045657Z
DESCRIPTION:Bunny Slope | An Interactive Preschool Class\n\nYou are invited
  to a Zoom meeting.\nWhen: Jan 16\, 2025 10:00 AM Central Time (US and Can
 ada)\n\nRegister in advance for this meeting:\nhttps://us02web.zoom.us/mee
 ting/register/_XTqD3Y5QmWHU9Aaht6Dvg\n\nAfter registering\, you will recei
 ve a confirmation email containing information about joining the meeting.
DTSTART;TZID=America/Chicago:20250116T100000
DTEND;TZID=America/Chicago:20250116T110000
LOCATION:https://us02web.zoom.us/meeting/register/_XTqD3Y5QmWHU9Aaht6Dvg
SUMMARY:Bunny Slope | An Interactive Preschool Class
END:VEVENT
END:VCALENDAR
