BEGIN:VCALENDAR
VERSION:2.0
PRODID:-//midwestchildcare.org//NONSGML kigkonsult.se iCalcreator 2.30.10//
CALSCALE:GREGORIAN
METHOD:PUBLISH
UID:fb519f74-0f6e-43b1-9144-847151cef577
X-WR-CALDESC:Bunny Slope | An Interactive Preschool Class\n\nYou are invite
 d to a Zoom meeting.When: Jan 16\, 2025 09:30 AM Central Time (US and Cana
 da)\n\nRegister in advance for this meeting:\nhttps://us02web.zoom.us/meet
 ing/register/Gv2mIzdtTQWs7mTLz94l9g\n\nAfter registering\, you will receiv
 e a confirmation email containing information about joining the meeting.
X-WR-RELCALID:2a0c7f27e07e7f9317619dc1a08bb2af
X-WR-TIMEZONE:America/Chicago
BEGIN:VTIMEZONE
TZID:America/Chicago
BEGIN:STANDARD
TZNAME:CST
DTSTART:20241103T020000
TZOFFSETFROM:-0500
TZOFFSETTO:-0600
RDATE:20251102T020000
END:STANDARD
BEGIN:DAYLIGHT
TZNAME:CDT
DTSTART:20240310T020000
TZOFFSETFROM:-0600
TZOFFSETTO:-0500
RDATE:20250309T020000
RDATE:20260308T020000
END:DAYLIGHT
END:VTIMEZONE
BEGIN:VEVENT
UID:fc2e5c1d-5815-4200-b50b-b9286f1dfa99
DTSTAMP:20260421T051510Z
DESCRIPTION:Bunny Slope | An Interactive Preschool Class\n\nYou are invited
  to a Zoom meeting.When: Jan 16\, 2025 09:30 AM Central Time (US and Canad
 a)\n\nRegister in advance for this meeting:\nhttps://us02web.zoom.us/meeti
 ng/register/Gv2mIzdtTQWs7mTLz94l9g\n\nAfter registering\, you will receive
  a confirmation email containing information about joining the meeting.
DTSTART;TZID=America/Chicago:20250116T093000
DTEND;TZID=America/Chicago:20250116T103000
LOCATION:https://us02web.zoom.us/meeting/register/Gv2mIzdtTQWs7mTLz94l9g
SUMMARY:Bunny Slope | An Interactive Preschool Class
END:VEVENT
END:VCALENDAR
