BEGIN:VCALENDAR
VERSION:2.0
PRODID:-//midwestchildcare.org//NONSGML kigkonsult.se iCalcreator 2.30.10//
CALSCALE:GREGORIAN
METHOD:PUBLISH
UID:ba7b6b2a-cbba-4e92-a437-b5cee8ee3279
X-WR-CALDESC:Bunny Slope | An Interactive Preschool Class\n\nYou are invite
 d to a Zoom meeting.\nWhen: Jan 16\, 2025 09:00 AM Central Time (US and Ca
 nada)\n\nRegister in advance for this meeting:\nhttps://us02web.zoom.us/me
 eting/register/GBeY5t3dTkmv-Mu5YCrDWA\n\nAfter registering\, you will rece
 ive a confirmation email containing information about joining the meeting.
X-WR-RELCALID:1d65bcb2778f845a39c0323e3497896c
X-WR-TIMEZONE:America/Chicago
BEGIN:VTIMEZONE
TZID:America/Chicago
BEGIN:STANDARD
TZNAME:CST
DTSTART:20241103T020000
TZOFFSETFROM:-0500
TZOFFSETTO:-0600
RDATE:20251102T020000
END:STANDARD
BEGIN:DAYLIGHT
TZNAME:CDT
DTSTART:20240310T020000
TZOFFSETFROM:-0600
TZOFFSETTO:-0500
RDATE:20250309T020000
RDATE:20260308T020000
END:DAYLIGHT
END:VTIMEZONE
BEGIN:VEVENT
UID:41e22f65-bea4-4aa1-9d21-5c2e3ee6a36c
DTSTAMP:20260421T050448Z
DESCRIPTION:Bunny Slope | An Interactive Preschool Class\n\nYou are invited
  to a Zoom meeting.\nWhen: Jan 16\, 2025 09:00 AM Central Time (US and Can
 ada)\n\nRegister in advance for this meeting:\nhttps://us02web.zoom.us/mee
 ting/register/GBeY5t3dTkmv-Mu5YCrDWA\n\nAfter registering\, you will recei
 ve a confirmation email containing information about joining the meeting.
DTSTART;TZID=America/Chicago:20250116T090000
DTEND;TZID=America/Chicago:20250116T100000
LOCATION:https://us02web.zoom.us/meeting/register/GBeY5t3dTkmv-Mu5YCrDWA
SUMMARY:Bunny Slope | An Interactive Preschool Class
END:VEVENT
END:VCALENDAR
