BEGIN:VCALENDAR
VERSION:2.0
PRODID:-//midwestchildcare.org//NONSGML kigkonsult.se iCalcreator 2.30.10//
CALSCALE:GREGORIAN
METHOD:PUBLISH
UID:a3a602d4-13b6-40fa-ae3d-9e300dad7921
X-WR-CALDESC:HSI Pediatric First Aid | CPR AED Child/Infant/Adult (2020)\n
 \nLocation: 	\n7200 S 84th St\nLaVista\, NE 68128\n\n01/09/2025\, 6:00 PM -
  8:00 PM\n\nhttps://otis.osmanager4.com/#/openEnrollment?co=1&cid=5050894
X-WR-RELCALID:8f1421e73b8a610932760a721e60ae52
X-WR-TIMEZONE:America/Chicago
BEGIN:VTIMEZONE
TZID:America/Chicago
BEGIN:STANDARD
TZNAME:CST
DTSTART:20241103T020000
TZOFFSETFROM:-0500
TZOFFSETTO:-0600
RDATE:20251102T020000
END:STANDARD
BEGIN:DAYLIGHT
TZNAME:CDT
DTSTART:20240310T020000
TZOFFSETFROM:-0600
TZOFFSETTO:-0500
RDATE:20250309T020000
RDATE:20260308T020000
END:DAYLIGHT
END:VTIMEZONE
BEGIN:VEVENT
UID:4ee9f48e-5e9e-4d6c-8575-e717c7248763
DTSTAMP:20260421T051047Z
DESCRIPTION:HSI Pediatric First Aid | CPR AED Child/Infant/Adult (2020)\n\n
 Location: 	\n7200 S 84th St\nLaVista\, NE 68128\n\n01/09/2025\, 6:00 PM - 8
 :00 PM\n\nhttps://otis.osmanager4.com/#/openEnrollment?co=1&cid=5050894
DTSTART;TZID=America/Chicago:20250109T180000
DTEND;TZID=America/Chicago:20250109T200000
LOCATION:https://otis.osmanager4.com/#/openEnrollment?co=1&cid=5050894
SUMMARY:HSI Pediatric First Aid | CPR AED Child/Infant/Adult (2020)
END:VEVENT
END:VCALENDAR
