BEGIN:VCALENDAR
VERSION:2.0
PRODID:-//midwestchildcare.org//NONSGML kigkonsult.se iCalcreator 2.30.10//
CALSCALE:GREGORIAN
METHOD:PUBLISH
UID:a7df9df1-f942-45dd-ad08-e29f892d5aef
X-WR-CALDESC:Go\, Sled! Go! | An Interactive Preschool Class\n\nYou are inv
 ited to a Zoom meeting.When: Jan 9\, 2025 10:00 AM Central Time (US and Ca
 nada)\n\nRegister in advance for this meeting:\nhttps://us02web.zoom.us/me
 eting/register/tZEpfuutrTMqH9X06QRjiY1RxDp3h-8Tio4g\n\nAfter registering\,
  you will receive a confirmation email containing information about joinin
 g the meeting.
X-WR-RELCALID:00f787ecdedd0af6b8ee866fae43f62b
X-WR-TIMEZONE:America/Chicago
BEGIN:VTIMEZONE
TZID:America/Chicago
BEGIN:STANDARD
TZNAME:CST
DTSTART:20241103T020000
TZOFFSETFROM:-0500
TZOFFSETTO:-0600
RDATE:20251102T020000
END:STANDARD
BEGIN:DAYLIGHT
TZNAME:CDT
DTSTART:20240310T020000
TZOFFSETFROM:-0600
TZOFFSETTO:-0500
RDATE:20250309T020000
RDATE:20260308T020000
END:DAYLIGHT
END:VTIMEZONE
BEGIN:VEVENT
UID:1273beac-c18f-4c64-ac67-1ec72f993a54
DTSTAMP:20260421T051510Z
DESCRIPTION:Go\, Sled! Go! | An Interactive Preschool Class\n\nYou are invi
 ted to a Zoom meeting.When: Jan 9\, 2025 10:00 AM Central Time (US and Can
 ada)\n\nRegister in advance for this meeting:\nhttps://us02web.zoom.us/mee
 ting/register/tZEpfuutrTMqH9X06QRjiY1RxDp3h-8Tio4g\n\nAfter registering\, 
 you will receive a confirmation email containing information about joining
  the meeting.
DTSTART;TZID=America/Chicago:20250109T100000
DTEND;TZID=America/Chicago:20250109T110000
LOCATION:https://us02web.zoom.us/meeting/register/tZEpfuutrTMqH9X06QRjiY1Rx
 Dp3h-8Tio4g
SUMMARY:Go\, Sled! Go! | An Interactive Preschool Class
END:VEVENT
END:VCALENDAR
