BEGIN:VCALENDAR
VERSION:2.0
PRODID:-//midwestchildcare.org//NONSGML kigkonsult.se iCalcreator 2.30.10//
CALSCALE:GREGORIAN
METHOD:PUBLISH
UID:74e2ad3b-eb78-488c-a262-50b4c7634835
X-WR-CALDESC:Go\, Sled! Go! | An Interactive Preschool Class\n\nYou are inv
 ited to a Zoom meeting.When: Jan 9\, 2025 09:30 AM Central Time (US and Ca
 nada)\n\nRegister in advance for this meeting:\nhttps://us02web.zoom.us/me
 eting/register/tZUrfu2spzoiHNVVWSjxs-6rJV3fOdSh7e2J\n\nAfter registering\,
  you will receive a confirmation email containing information about joinin
 g the meeting.
X-WR-RELCALID:ae938a3a0181906b3d9a277dce825d60
X-WR-TIMEZONE:America/Chicago
BEGIN:VTIMEZONE
TZID:America/Chicago
BEGIN:STANDARD
TZNAME:CST
DTSTART:20241103T020000
TZOFFSETFROM:-0500
TZOFFSETTO:-0600
RDATE:20251102T020000
END:STANDARD
BEGIN:DAYLIGHT
TZNAME:CDT
DTSTART:20240310T020000
TZOFFSETFROM:-0600
TZOFFSETTO:-0500
RDATE:20250309T020000
RDATE:20260308T020000
END:DAYLIGHT
END:VTIMEZONE
BEGIN:VEVENT
UID:c1635f85-f4d7-4de8-98b3-b72f54dd615f
DTSTAMP:20260421T045227Z
DESCRIPTION:Go\, Sled! Go! | An Interactive Preschool Class\n\nYou are invi
 ted to a Zoom meeting.When: Jan 9\, 2025 09:30 AM Central Time (US and Can
 ada)\n\nRegister in advance for this meeting:\nhttps://us02web.zoom.us/mee
 ting/register/tZUrfu2spzoiHNVVWSjxs-6rJV3fOdSh7e2J\n\nAfter registering\, 
 you will receive a confirmation email containing information about joining
  the meeting.
DTSTART;TZID=America/Chicago:20250109T093000
DTEND;TZID=America/Chicago:20250109T103000
LOCATION:https://us02web.zoom.us/meeting/register/tZUrfu2spzoiHNVVWSjxs-6rJ
 V3fOdSh7e2J
SUMMARY:Go\, Sled! Go! | An Interactive Preschool Class
END:VEVENT
END:VCALENDAR
