BEGIN:VCALENDAR
VERSION:2.0
PRODID:-//midwestchildcare.org//NONSGML kigkonsult.se iCalcreator 2.30.10//
CALSCALE:GREGORIAN
METHOD:PUBLISH
UID:a0227ba2-6ced-48d3-8a77-5f24fcfec3e6
X-WR-CALDESC:Go\, Sled! Go! | An Interactive Preschool Class\n\nYou are inv
 ited to a Zoom meeting.When: Jan 9\, 2025 09:00 AM Central Time (US and Ca
 nada)\n\nRegister in advance for this meeting:\nhttps://us02web.zoom.us/me
 eting/register/tZApdO6rpzsrH9yMCfspMioiQoNwK3O5X3nd\n\nAfter registering\,
  you will receive a confirmation email containing information about joinin
 g the meeting.
X-WR-RELCALID:c6573017d739ba32b5cd86ffd0bdc4a1
X-WR-TIMEZONE:America/Chicago
BEGIN:VTIMEZONE
TZID:America/Chicago
BEGIN:STANDARD
TZNAME:CST
DTSTART:20241103T020000
TZOFFSETFROM:-0500
TZOFFSETTO:-0600
RDATE:20251102T020000
END:STANDARD
BEGIN:DAYLIGHT
TZNAME:CDT
DTSTART:20240310T020000
TZOFFSETFROM:-0600
TZOFFSETTO:-0500
RDATE:20250309T020000
RDATE:20260308T020000
END:DAYLIGHT
END:VTIMEZONE
BEGIN:VEVENT
UID:03eb9881-776a-4e8c-8010-3ef005c481b5
DTSTAMP:20260421T045001Z
DESCRIPTION:Go\, Sled! Go! | An Interactive Preschool Class\n\nYou are invi
 ted to a Zoom meeting.When: Jan 9\, 2025 09:00 AM Central Time (US and Can
 ada)\n\nRegister in advance for this meeting:\nhttps://us02web.zoom.us/mee
 ting/register/tZApdO6rpzsrH9yMCfspMioiQoNwK3O5X3nd\n\nAfter registering\, 
 you will receive a confirmation email containing information about joining
  the meeting.
DTSTART;TZID=America/Chicago:20250109T090000
DTEND;TZID=America/Chicago:20250109T100000
LOCATION:https://us02web.zoom.us/meeting/register/tZApdO6rpzsrH9yMCfspMioiQ
 oNwK3O5X3nd
SUMMARY:Go\, Sled! Go! | An Interactive Preschool Class
END:VEVENT
END:VCALENDAR
