BEGIN:VCALENDAR
VERSION:2.0
PRODID:-//midwestchildcare.org//NONSGML kigkonsult.se iCalcreator 2.30.10//
CALSCALE:GREGORIAN
METHOD:PUBLISH
UID:1144aaaf-83d9-419a-b502-d4a5d227ac49
X-WR-CALDESC:Olive the Other Reindeer | An Interactive Preschool Class\n\nY
 ou are invited to a Zoom meeting.When: Dec 19\, 2024 09:30 AM Central Time
  (US and Canada)\n\nRegister in advance for this meeting:\nhttps://us02web
 .zoom.us/meeting/register/tZEpcO6spjIvHNbPamTUBjZm26-PtWuGWFb6\n\nAfter re
 gistering\, you will receive a confirmation email containing information a
 bout joining the meeting.
X-WR-RELCALID:4ad84b1f7c2b0f04c099160e6226b939
X-WR-TIMEZONE:America/Chicago
BEGIN:VTIMEZONE
TZID:America/Chicago
BEGIN:STANDARD
TZNAME:CST
DTSTART:20241103T020000
TZOFFSETFROM:-0500
TZOFFSETTO:-0600
RDATE:20251102T020000
END:STANDARD
BEGIN:DAYLIGHT
TZNAME:CDT
DTSTART:20240310T020000
TZOFFSETFROM:-0600
TZOFFSETTO:-0500
RDATE:20250309T020000
RDATE:20260308T020000
END:DAYLIGHT
END:VTIMEZONE
BEGIN:VEVENT
UID:d419a0c8-29ec-4b1e-adcd-d6bbbae7eb6f
DTSTAMP:20260421T065214Z
DESCRIPTION:Olive the Other Reindeer | An Interactive Preschool Class\n\nYo
 u are invited to a Zoom meeting.When: Dec 19\, 2024 09:30 AM Central Time 
 (US and Canada)\n\nRegister in advance for this meeting:\nhttps://us02web.
 zoom.us/meeting/register/tZEpcO6spjIvHNbPamTUBjZm26-PtWuGWFb6\n\nAfter reg
 istering\, you will receive a confirmation email containing information ab
 out joining the meeting.
DTSTART;TZID=America/Chicago:20241219T093000
DTEND;TZID=America/Chicago:20241219T103000
LOCATION:https://us02web.zoom.us/meeting/register/tZEpcO6spjIvHNbPamTUBjZm2
 6-PtWuGWFb6
SUMMARY:Olive the Other Reindeer | An Interactive Preschool Class
END:VEVENT
END:VCALENDAR
