BEGIN:VCALENDAR
VERSION:2.0
PRODID:-//midwestchildcare.org//NONSGML kigkonsult.se iCalcreator 2.30.10//
CALSCALE:GREGORIAN
METHOD:PUBLISH
UID:0c972e6e-3250-4542-86ff-185ad791ea91
X-WR-CALDESC:Olive the Other Reindeer | An Interactive Preschool Class\n\nY
 ou are invited to a Zoom meeting.When: Dec 19\, 2024 09:00 AM Central Time
  (US and Canada)\n\nRegister in advance for this meeting:\nhttps://us02web
 .zoom.us/meeting/register/tZcofu6rpzsjHNX9ICu9LRAA2ErRLQ3yCH3N\n\nAfter re
 gistering\, you will receive a confirmation email containing information a
 bout joining the meeting.
X-WR-RELCALID:908e86deaeecaf53b8a59451ebe24816
X-WR-TIMEZONE:America/Chicago
BEGIN:VTIMEZONE
TZID:America/Chicago
BEGIN:STANDARD
TZNAME:CST
DTSTART:20241103T020000
TZOFFSETFROM:-0500
TZOFFSETTO:-0600
RDATE:20251102T020000
END:STANDARD
BEGIN:DAYLIGHT
TZNAME:CDT
DTSTART:20240310T020000
TZOFFSETFROM:-0600
TZOFFSETTO:-0500
RDATE:20250309T020000
RDATE:20260308T020000
END:DAYLIGHT
END:VTIMEZONE
BEGIN:VEVENT
UID:26605510-8f48-4096-8a55-f97f2c3e77c6
DTSTAMP:20260421T065356Z
DESCRIPTION:Olive the Other Reindeer | An Interactive Preschool Class\n\nYo
 u are invited to a Zoom meeting.When: Dec 19\, 2024 09:00 AM Central Time 
 (US and Canada)\n\nRegister in advance for this meeting:\nhttps://us02web.
 zoom.us/meeting/register/tZcofu6rpzsjHNX9ICu9LRAA2ErRLQ3yCH3N\n\nAfter reg
 istering\, you will receive a confirmation email containing information ab
 out joining the meeting.
DTSTART;TZID=America/Chicago:20241219T090000
DTEND;TZID=America/Chicago:20241219T100000
LOCATION:https://us02web.zoom.us/meeting/register/tZcofu6rpzsjHNX9ICu9LRAA2
 ErRLQ3yCH3N
SUMMARY:Olive the Other Reindeer | An Interactive Preschool Class
END:VEVENT
END:VCALENDAR
