BEGIN:VCALENDAR
VERSION:2.0
PRODID:-//midwestchildcare.org//NONSGML kigkonsult.se iCalcreator 2.30.10//
CALSCALE:GREGORIAN
METHOD:PUBLISH
UID:7e20a789-35c4-4ea4-94a0-a3685dc24e6d
X-WR-CALDESC:Class Number:	32290221\n\nClass Type:	Classroom Training\n\nDesc
 ription:	HSI Pediatric First Aid | CPR AED Child/Infant/Adult (2020)\n\nLoc
 ation:	\n7701 Pacific St\nOmaha\, NE 68114\n\nDate/Time:	12/19/2024\, 12:00 
 AM - 12:00 AM\n\nFull In-Person Class @ Midwest Childcare Association (6 t
 o 10 PM):\nhttps://otis.osmanager4.com/#/openEnrollment?co=1&cid=3673059
X-WR-RELCALID:77867ee6f976f403ea74ae32a2984cb3
X-WR-TIMEZONE:America/Chicago
BEGIN:VTIMEZONE
TZID:America/Chicago
BEGIN:STANDARD
TZNAME:CST
DTSTART:20241103T020000
TZOFFSETFROM:-0500
TZOFFSETTO:-0600
RDATE:20251102T020000
END:STANDARD
BEGIN:DAYLIGHT
TZNAME:CDT
DTSTART:20240310T020000
TZOFFSETFROM:-0600
TZOFFSETTO:-0500
RDATE:20250309T020000
RDATE:20260308T020000
END:DAYLIGHT
END:VTIMEZONE
BEGIN:VEVENT
UID:78daa257-e8c3-4cd5-829f-d231818656cd
DTSTAMP:20260421T071303Z
DESCRIPTION:Class Number:	32290221\n\nClass Type:	Classroom Training\n\nDescr
 iption:	HSI Pediatric First Aid | CPR AED Child/Infant/Adult (2020)\n\nLoca
 tion:	\n7701 Pacific St\nOmaha\, NE 68114\n\nDate/Time:	12/19/2024\, 12:00 A
 M - 12:00 AM\n\nFull In-Person Class @ Midwest Childcare Association (6 to
  10 PM):\nhttps://otis.osmanager4.com/#/openEnrollment?co=1&cid=3673059
DTSTART;TZID=America/Chicago:20241219T180000
DTEND;TZID=America/Chicago:20241219T220000
LOCATION:7701 Pacific St\, Omaha\, NE 68114 US
SUMMARY:HSI Pediatric First Aid | CPR AED Child/Infant/Adult (2020)
END:VEVENT
END:VCALENDAR
