BEGIN:VCALENDAR
VERSION:2.0
PRODID:-//midwestchildcare.org//NONSGML kigkonsult.se iCalcreator 2.30.10//
CALSCALE:GREGORIAN
METHOD:PUBLISH
UID:77cf975f-9c90-416b-a04c-0c6bb9889903
X-WR-CALDESC:Looking for Moose | An Interactive Preschool Class\n\nYou are 
 invited to a Zoom meeting.\nWhen: Dec 5\, 2024 10:00 AM Central Time (US a
 nd Canada)\n\nRegister in advance for this meeting:\nhttps://us02web.zoom.
 us/meeting/register/tZctfumoqT0vG9auliV3Gi5Gl0wCxJL1D9a6\n\nAfter register
 ing\, you will receive a confirmation email containing information about j
 oining the meeting.
X-WR-RELCALID:777cab70ba03ddb1f26547b3e1170604
X-WR-TIMEZONE:America/Chicago
BEGIN:VTIMEZONE
TZID:America/Chicago
BEGIN:STANDARD
TZNAME:CST
DTSTART:20241103T020000
TZOFFSETFROM:-0500
TZOFFSETTO:-0600
RDATE:20251102T020000
END:STANDARD
BEGIN:DAYLIGHT
TZNAME:CDT
DTSTART:20240310T020000
TZOFFSETFROM:-0600
TZOFFSETTO:-0500
RDATE:20250309T020000
RDATE:20260308T020000
END:DAYLIGHT
END:VTIMEZONE
BEGIN:VEVENT
UID:a455f2d6-b83b-4478-bee9-a4fd016a00de
DTSTAMP:20260421T110140Z
DESCRIPTION:Looking for Moose | An Interactive Preschool Class\n\nYou are i
 nvited to a Zoom meeting.\nWhen: Dec 5\, 2024 10:00 AM Central Time (US an
 d Canada)\n\nRegister in advance for this meeting:\nhttps://us02web.zoom.u
 s/meeting/register/tZctfumoqT0vG9auliV3Gi5Gl0wCxJL1D9a6\n\nAfter registeri
 ng\, you will receive a confirmation email containing information about jo
 ining the meeting.
DTSTART;TZID=America/Chicago:20241205T100000
DTEND;TZID=America/Chicago:20241205T110000
LOCATION:https://us02web.zoom.us/meeting/register/tZctfumoqT0vG9auliV3Gi5Gl
 0wCxJL1D9a6
SUMMARY:Looking for Moose | An Interactive Preschool Class
END:VEVENT
END:VCALENDAR
