BEGIN:VCALENDAR
VERSION:2.0
PRODID:-//midwestchildcare.org//NONSGML kigkonsult.se iCalcreator 2.30.10//
CALSCALE:GREGORIAN
METHOD:PUBLISH
UID:70e3fe6e-980f-44fb-8a5f-d7b7435f0992
X-WR-CALDESC:Looking for Moose | An Interactive Preschool Class\n\nYou are 
 invited to a Zoom meeting.When: Dec 5\, 2024 09:00 AM Central Time (US and
  Canada)\n\nRegister in advance for this meeting:\nhttps://us02web.zoom.us
 /meeting/register/tZYvduGrpzoqEtbay6w78A4GOmh4vnGFQCUJ\n\nAfter registerin
 g\, you will receive a confirmation email containing information about joi
 ning the meeting.
X-WR-RELCALID:15ae2e6d467bcc33e2c6f988c8660ef2
X-WR-TIMEZONE:America/Chicago
BEGIN:VTIMEZONE
TZID:America/Chicago
BEGIN:STANDARD
TZNAME:CST
DTSTART:20241103T020000
TZOFFSETFROM:-0500
TZOFFSETTO:-0600
RDATE:20251102T020000
END:STANDARD
BEGIN:DAYLIGHT
TZNAME:CDT
DTSTART:20240310T020000
TZOFFSETFROM:-0600
TZOFFSETTO:-0500
RDATE:20250309T020000
RDATE:20260308T020000
END:DAYLIGHT
END:VTIMEZONE
BEGIN:VEVENT
UID:0e199050-127d-47e4-a748-54e8f92ee3c7
DTSTAMP:20260421T065652Z
DESCRIPTION:Looking for Moose | An Interactive Preschool Class\n\nYou are i
 nvited to a Zoom meeting.When: Dec 5\, 2024 09:00 AM Central Time (US and 
 Canada)\n\nRegister in advance for this meeting:\nhttps://us02web.zoom.us/
 meeting/register/tZYvduGrpzoqEtbay6w78A4GOmh4vnGFQCUJ\n\nAfter registering
 \, you will receive a confirmation email containing information about join
 ing the meeting.
DTSTART;TZID=America/Chicago:20241205T090000
DTEND;TZID=America/Chicago:20241205T100000
LOCATION:https://us02web.zoom.us/meeting/register/tZYvduGrpzoqEtbay6w78A4GO
 mh4vnGFQCUJ
SUMMARY:Looking for Moose | An Interactive Preschool Class
END:VEVENT
END:VCALENDAR
