BEGIN:VCALENDAR
VERSION:2.0
PRODID:-//midwestchildcare.org//NONSGML kigkonsult.se iCalcreator 2.30.10//
CALSCALE:GREGORIAN
METHOD:PUBLISH
UID:eb226bb9-d196-405f-ab60-4db93db11c5e
X-WR-CALDESC:Class Number:	32290214\n\nClass Type:	Classroom Training\n\nDesc
 ription:	HSI Pediatric First Aid | CPR AED Child/Infant/Adult (2020)\n\nLoc
 ation:	\n7200 S 84th St\nLaVista\, NE 68128\n\nDate/Time:	12/05/2024\, 12:00
  AM - 12:00 AM\n\nZoom *Renewal Class* (6 to 8 PM) & In-Person Hands On by
  Appt (takes about 30 mins):\nhttps://otis.osmanager4.com/#/openEnrollment
 ?co=1&cid=4114004
X-WR-RELCALID:85c5bbf566bec7f860111dec00fc476d
X-WR-TIMEZONE:America/Chicago
BEGIN:VTIMEZONE
TZID:America/Chicago
BEGIN:STANDARD
TZNAME:CST
DTSTART:20241103T020000
TZOFFSETFROM:-0500
TZOFFSETTO:-0600
RDATE:20251102T020000
END:STANDARD
BEGIN:DAYLIGHT
TZNAME:CDT
DTSTART:20240310T020000
TZOFFSETFROM:-0600
TZOFFSETTO:-0500
RDATE:20250309T020000
RDATE:20260308T020000
END:DAYLIGHT
END:VTIMEZONE
BEGIN:VEVENT
UID:1791a739-260b-4f1e-a195-0d5fe2f8ad27
DTSTAMP:20260421T065141Z
DESCRIPTION:Class Number:	32290214\n\nClass Type:	Classroom Training\n\nDescr
 iption:	HSI Pediatric First Aid | CPR AED Child/Infant/Adult (2020)\n\nLoca
 tion:	\n7200 S 84th St\nLaVista\, NE 68128\n\nDate/Time:	12/05/2024\, 12:00 
 AM - 12:00 AM\n\nZoom *Renewal Class* (6 to 8 PM) & In-Person Hands On by 
 Appt (takes about 30 mins):\nhttps://otis.osmanager4.com/#/openEnrollment?
 co=1&cid=4114004
DTSTART;TZID=America/Chicago:20241205T180000
DTEND;TZID=America/Chicago:20241205T200000
LOCATION:7200 S 84th St\, Omaha\, NE 68128 US
SUMMARY:HSI Pediatric First Aid | CPR AED Child/Infant/Adult (2020)
END:VEVENT
END:VCALENDAR
