BEGIN:VCALENDAR
VERSION:2.0
PRODID:-//midwestchildcare.org//NONSGML kigkonsult.se iCalcreator 2.30.10//
CALSCALE:GREGORIAN
METHOD:PUBLISH
UID:201a0a9d-69c6-453f-b055-c7b39a0504d1
X-WR-CALDESC:Understanding GI Health\, Probiotics and Prebiotics | 1- hour 
 Educational Webinars\n\nPlease register for Understanding GI Health\, Prob
 iotics and Prebiotics on Dec 3\, 2024 7:00 PM CST at:\nhttps://attendee.go
 towebinar.com/register/1823849440370942554\n\nAfter registering\, you will
  receive a confirmation email containing information about joining the web
 inar.
X-WR-RELCALID:2c6f2e13295ba3df5579097507997507
X-WR-TIMEZONE:America/Chicago
BEGIN:VTIMEZONE
TZID:America/Chicago
BEGIN:STANDARD
TZNAME:CST
DTSTART:20241103T020000
TZOFFSETFROM:-0500
TZOFFSETTO:-0600
RDATE:20251102T020000
END:STANDARD
BEGIN:DAYLIGHT
TZNAME:CDT
DTSTART:20240310T020000
TZOFFSETFROM:-0600
TZOFFSETTO:-0500
RDATE:20250309T020000
RDATE:20260308T020000
END:DAYLIGHT
END:VTIMEZONE
BEGIN:VEVENT
UID:b8434501-d190-41a7-86c6-abaebce8d838
DTSTAMP:20260421T064924Z
DESCRIPTION:Understanding GI Health\, Probiotics and Prebiotics | 1- hour E
 ducational Webinars\n\nPlease register for Understanding GI Health\, Probi
 otics and Prebiotics on Dec 3\, 2024 7:00 PM CST at:\nhttps://attendee.got
 owebinar.com/register/1823849440370942554\n\nAfter registering\, you will 
 receive a confirmation email containing information about joining the webi
 nar.
DTSTART;TZID=America/Chicago:20241203T190000
DTEND;TZID=America/Chicago:20241203T200000
LOCATION:https://attendee.gotowebinar.com/register/1823849440370942554
SUMMARY:Understanding GI Health\, Probiotics and Prebiotics | 1- hour Educa
 tional Webinars
END:VEVENT
END:VCALENDAR
