BEGIN:VCALENDAR
VERSION:2.0
PRODID:-//midwestchildcare.org//NONSGML kigkonsult.se iCalcreator 2.30.10//
CALSCALE:GREGORIAN
METHOD:PUBLISH
UID:400d9689-4a8f-4f94-9d20-5b3c1d339fa2
X-WR-CALDESC:Class Number:	32289020\n\nClass Type:	Classroom Training\n\nDesc
 ription:	HSI Pediatric First Aid | CPR AED Child/Infant/Adult (2020)\n\nLoc
 ation:	\n7200 S 84th St\nLaVista\, NE 68128\n\nDate/Time:	11/21/2024\, 10:00
  PM - 10:00 PM\n\nZoom *Full Class* (6 to 10 PM) & In-Person Hands On by A
 ppt (takes about 30 mins):\nhttps://otis.osmanager4.com/#/openEnrollment?c
 o=1&cid=4121505
X-WR-RELCALID:b0cf68c10b38aceabeca217c2f79219f
X-WR-TIMEZONE:America/Chicago
BEGIN:VTIMEZONE
TZID:America/Chicago
BEGIN:STANDARD
TZNAME:CST
DTSTART:20241103T020000
TZOFFSETFROM:-0500
TZOFFSETTO:-0600
RDATE:20251102T020000
END:STANDARD
BEGIN:DAYLIGHT
TZNAME:CDT
DTSTART:20240310T020000
TZOFFSETFROM:-0600
TZOFFSETTO:-0500
RDATE:20250309T020000
RDATE:20260308T020000
END:DAYLIGHT
END:VTIMEZONE
BEGIN:VEVENT
UID:1bc41b7c-bc65-4cc0-82af-697b4e63d21d
DTSTAMP:20260421T085924Z
DESCRIPTION:Class Number:	32289020\n\nClass Type:	Classroom Training\n\nDescr
 iption:	HSI Pediatric First Aid | CPR AED Child/Infant/Adult (2020)\n\nLoca
 tion:	\n7200 S 84th St\nLaVista\, NE 68128\n\nDate/Time:	11/21/2024\, 10:00 
 PM - 10:00 PM\n\nZoom *Full Class* (6 to 10 PM) & In-Person Hands On by Ap
 pt (takes about 30 mins):\nhttps://otis.osmanager4.com/#/openEnrollment?co
 =1&cid=4121505
DTSTART;TZID=America/Chicago:20241121T180000
DTEND;TZID=America/Chicago:20241121T220000
LOCATION:7200 S 84th St\, Omaha\, NE 68128 US
SUMMARY:HSI Pediatric First Aid | CPR AED Child/Infant/Adult (2020)
END:VEVENT
END:VCALENDAR
