BEGIN:VCALENDAR
VERSION:2.0
PRODID:-//midwestchildcare.org//NONSGML kigkonsult.se iCalcreator 2.30.10//
CALSCALE:GREGORIAN
METHOD:PUBLISH
UID:75ea3911-0a26-4c12-b742-9878b56eb13a
X-WR-CALDESC:Dino-Thanksgiving | An Interactive Preschool Class\n\nYou are 
 invited to a Zoom meeting.When: Nov 21\, 2024 09:30 AM Central Time (US an
 d Canada)\n\nRegister in advance for this meeting:\nhttps://us02web.zoom.u
 s/meeting/register/tZUpdO-qrT4qHND5gFXErJVrToTIz2A71Gwh\n\nAfter registeri
 ng\, you will receive a confirmation email containing information about jo
 ining the meeting.
X-WR-RELCALID:f9cca3fdec95a6944a2b4a9df6c5f2d6
X-WR-TIMEZONE:America/Chicago
BEGIN:VTIMEZONE
TZID:America/Chicago
BEGIN:STANDARD
TZNAME:CST
DTSTART:20241103T020000
TZOFFSETFROM:-0500
TZOFFSETTO:-0600
RDATE:20251102T020000
END:STANDARD
BEGIN:DAYLIGHT
TZNAME:CDT
DTSTART:20240310T020000
TZOFFSETFROM:-0600
TZOFFSETTO:-0500
RDATE:20250309T020000
RDATE:20260308T020000
END:DAYLIGHT
END:VTIMEZONE
BEGIN:VEVENT
UID:5d710e0b-fe24-4afe-89d7-7cf52a846b71
DTSTAMP:20260423T085532Z
DESCRIPTION:Dino-Thanksgiving | An Interactive Preschool Class\n\nYou are i
 nvited to a Zoom meeting.When: Nov 21\, 2024 09:30 AM Central Time (US and
  Canada)\n\nRegister in advance for this meeting:\nhttps://us02web.zoom.us
 /meeting/register/tZUpdO-qrT4qHND5gFXErJVrToTIz2A71Gwh\n\nAfter registerin
 g\, you will receive a confirmation email containing information about joi
 ning the meeting.
DTSTART;TZID=America/Chicago:20241121T093000
DTEND;TZID=America/Chicago:20241121T103000
LOCATION:https://us02web.zoom.us/meeting/register/tZUpdO-qrT4qHND5gFXErJVrT
 oTIz2A71Gwh
SUMMARY:Dino-Thanksgiving | An Interactive Preschool Class
END:VEVENT
END:VCALENDAR
