BEGIN:VCALENDAR
VERSION:2.0
PRODID:-//midwestchildcare.org//NONSGML kigkonsult.se iCalcreator 2.30.10//
CALSCALE:GREGORIAN
METHOD:PUBLISH
UID:8f9f65a1-85b3-4f7c-b626-70eabda64b94
X-WR-CALDESC:Dino-Thanksgiving | An Interactive Preschool Class\n\nYou are 
 invited to a Zoom meeting.When: Nov 21\, 2024 09:00 AM Central Time (US an
 d Canada)\n\nRegister in advance for this meeting:\nhttps://us02web.zoom.u
 s/meeting/register/tZEqd-qqqz0oGddHh_yi4RbN5OM-Bg31bhdA\n\nAfter registeri
 ng\, you will receive a confirmation email containing information about jo
 ining the meeting.
X-WR-RELCALID:ab0490117304863194c100abd04a9c91
X-WR-TIMEZONE:America/Chicago
BEGIN:VTIMEZONE
TZID:America/Chicago
BEGIN:STANDARD
TZNAME:CST
DTSTART:20241103T020000
TZOFFSETFROM:-0500
TZOFFSETTO:-0600
RDATE:20251102T020000
END:STANDARD
BEGIN:DAYLIGHT
TZNAME:CDT
DTSTART:20240310T020000
TZOFFSETFROM:-0600
TZOFFSETTO:-0500
RDATE:20250309T020000
RDATE:20260308T020000
END:DAYLIGHT
END:VTIMEZONE
BEGIN:VEVENT
UID:88cdc7ca-d48b-487a-ad82-ac9cbf3d8953
DTSTAMP:20260423T085844Z
DESCRIPTION:Dino-Thanksgiving | An Interactive Preschool Class\n\nYou are i
 nvited to a Zoom meeting.When: Nov 21\, 2024 09:00 AM Central Time (US and
  Canada)\n\nRegister in advance for this meeting:\nhttps://us02web.zoom.us
 /meeting/register/tZEqd-qqqz0oGddHh_yi4RbN5OM-Bg31bhdA\n\nAfter registerin
 g\, you will receive a confirmation email containing information about joi
 ning the meeting.
DTSTART;TZID=America/Chicago:20241121T090000
DTEND;TZID=America/Chicago:20241121T100000
LOCATION:https://us02web.zoom.us/meeting/register/tZEqd-qqqz0oGddHh_yi4RbN5
 OM-Bg31bhdA
SUMMARY:Dino-Thanksgiving | An Interactive Preschool Class
END:VEVENT
END:VCALENDAR
