BEGIN:VCALENDAR
VERSION:2.0
PRODID:-//midwestchildcare.org//NONSGML kigkonsult.se iCalcreator 2.30.10//
CALSCALE:GREGORIAN
METHOD:PUBLISH
UID:3fef8704-c46f-4fa4-aecb-423611dc7b8a
X-WR-CALDESC:Food Safety Best Practices | 1-hour Educational Webinar\n\nPle
 ase register for Food Safety Best Practices on Nov 18\, 2024 7:00 PM CST a
 t:https://attendee.gotowebinar.com/register/8616147392143203676\n\nAfter r
 egistering\, you will receive a confirmation email containing information 
 about joining the webinar.
X-WR-RELCALID:732fd3f14178ce62d39a5edf9f9ea19a
X-WR-TIMEZONE:America/Chicago
BEGIN:VTIMEZONE
TZID:America/Chicago
BEGIN:STANDARD
TZNAME:CST
DTSTART:20241103T020000
TZOFFSETFROM:-0500
TZOFFSETTO:-0600
RDATE:20251102T020000
END:STANDARD
BEGIN:DAYLIGHT
TZNAME:CDT
DTSTART:20240310T020000
TZOFFSETFROM:-0600
TZOFFSETTO:-0500
RDATE:20250309T020000
RDATE:20260308T020000
END:DAYLIGHT
END:VTIMEZONE
BEGIN:VEVENT
UID:4ea60704-11e3-4128-be27-4f99ab288e93
DTSTAMP:20260421T083224Z
DESCRIPTION:Food Safety Best Practices | 1-hour Educational Webinar\n\nPlea
 se register for Food Safety Best Practices on Nov 18\, 2024 7:00 PM CST at
 :https://attendee.gotowebinar.com/register/8616147392143203676\n\nAfter re
 gistering\, you will receive a confirmation email containing information a
 bout joining the webinar.
DTSTART;TZID=America/Chicago:20241118T190000
DTEND;TZID=America/Chicago:20241118T200000
LOCATION:https://attendee.gotowebinar.com/register/8616147392143203676
SUMMARY:Food Safety Best Practices | 1-hour Educational Webinar
END:VEVENT
END:VCALENDAR
