BEGIN:VCALENDAR
VERSION:2.0
PRODID:-//midwestchildcare.org//NONSGML kigkonsult.se iCalcreator 2.30.10//
CALSCALE:GREGORIAN
METHOD:PUBLISH
UID:50d9f7a3-02ab-4493-ada0-9001b725e5ab
X-WR-CALDESC:One Tiny Turtle | An Interactive Preschool Class\n\nYou are in
 vited to a Zoom meeting.When: Nov 14\, 2024 10:00 AM Central Time (US and 
 Canada)\n\nRegister in advance for this meeting:\nhttps://us02web.zoom.us/
 meeting/register/tZMpdu-hqjssHtMof9QGjWO4Mp0tEUEFbDUW\n\nAfter registering
 \, you will receive a confirmation email containing information about join
 ing the meeting.
X-WR-RELCALID:f62d2010e10ba603087ee166f13aad89
X-WR-TIMEZONE:America/Chicago
BEGIN:VTIMEZONE
TZID:America/Chicago
BEGIN:STANDARD
TZNAME:CST
DTSTART:20241103T020000
TZOFFSETFROM:-0500
TZOFFSETTO:-0600
RDATE:20251102T020000
END:STANDARD
BEGIN:DAYLIGHT
TZNAME:CDT
DTSTART:20240310T020000
TZOFFSETFROM:-0600
TZOFFSETTO:-0500
RDATE:20250309T020000
RDATE:20260308T020000
END:DAYLIGHT
END:VTIMEZONE
BEGIN:VEVENT
UID:5e4753f4-c06a-4948-9146-cb6030407d5c
DTSTAMP:20260423T100020Z
DESCRIPTION:One Tiny Turtle | An Interactive Preschool Class\n\nYou are inv
 ited to a Zoom meeting.When: Nov 14\, 2024 10:00 AM Central Time (US and C
 anada)\n\nRegister in advance for this meeting:\nhttps://us02web.zoom.us/m
 eeting/register/tZMpdu-hqjssHtMof9QGjWO4Mp0tEUEFbDUW\n\nAfter registering\
 , you will receive a confirmation email containing information about joini
 ng the meeting.
DTSTART;TZID=America/Chicago:20241114T100000
DTEND;TZID=America/Chicago:20241114T110000
LOCATION:https://us02web.zoom.us/meeting/register/tZMpdu-hqjssHtMof9QGjWO4M
 p0tEUEFbDUW
SUMMARY:One Tiny Turtle | An Interactive Preschool Class
END:VEVENT
END:VCALENDAR
