BEGIN:VCALENDAR
VERSION:2.0
PRODID:-//midwestchildcare.org//NONSGML kigkonsult.se iCalcreator 2.30.10//
CALSCALE:GREGORIAN
METHOD:PUBLISH
UID:de693841-78f1-4ca9-a311-5bcb93347c99
X-WR-CALDESC:One Tiny Turtle | An Interactive Preschool Class\n\nYou are in
 vited to a Zoom meeting.When: Nov 14\, 2024 09:30 AM Central Time (US and 
 Canada)\n\nRegister in advance for this meeting:\nhttps://us02web.zoom.us/
 meeting/register/tZ0sdu6uqzgiG92hjnWKIFnqxYjSfz4lOS21\n\nAfter registering
 \, you will receive a confirmation email containing information about join
 ing the meeting.
X-WR-RELCALID:7f65382f46f91d47a0f79959ea8b6acb
X-WR-TIMEZONE:America/Chicago
BEGIN:VTIMEZONE
TZID:America/Chicago
BEGIN:STANDARD
TZNAME:CST
DTSTART:20241103T020000
TZOFFSETFROM:-0500
TZOFFSETTO:-0600
RDATE:20251102T020000
END:STANDARD
BEGIN:DAYLIGHT
TZNAME:CDT
DTSTART:20240310T020000
TZOFFSETFROM:-0600
TZOFFSETTO:-0500
RDATE:20250309T020000
RDATE:20260308T020000
END:DAYLIGHT
END:VTIMEZONE
BEGIN:VEVENT
UID:c82c4d8a-decc-4c5a-9b1f-449e7cad91a7
DTSTAMP:20260421T083841Z
DESCRIPTION:One Tiny Turtle | An Interactive Preschool Class\n\nYou are inv
 ited to a Zoom meeting.When: Nov 14\, 2024 09:30 AM Central Time (US and C
 anada)\n\nRegister in advance for this meeting:\nhttps://us02web.zoom.us/m
 eeting/register/tZ0sdu6uqzgiG92hjnWKIFnqxYjSfz4lOS21\n\nAfter registering\
 , you will receive a confirmation email containing information about joini
 ng the meeting.
DTSTART;TZID=America/Chicago:20241114T093000
DTEND;TZID=America/Chicago:20241114T103000
LOCATION:https://us02web.zoom.us/meeting/register/tZ0sdu6uqzgiG92hjnWKIFnqx
 YjSfz4lOS21
SUMMARY:One Tiny Turtle | An Interactive Preschool Class
END:VEVENT
END:VCALENDAR
