BEGIN:VCALENDAR
VERSION:2.0
PRODID:-//midwestchildcare.org//NONSGML kigkonsult.se iCalcreator 2.30.10//
CALSCALE:GREGORIAN
METHOD:PUBLISH
UID:b0afb1c7-2002-4763-bbf4-4cbe5951ee1b
X-WR-CALDESC:One Tiny Turtle | An Interactive Preschool Class\n\n20 minutes
  Interactive Preschool Classes\n\nYou are invited to a Zoom meeting.\nWhen
 : Nov 14\, 2024 09:00 AM Central Time (US and Canada)\n\nRegister in advan
 ce for this meeting:\nhttps://us02web.zoom.us/meeting/register/tZwuceGhpzw
 iGtPpEuxnrq9-DKiNDWMS_nFI\n\nAfter registering\, you will receive a confir
 mation email containing information about joining the meeting.\n
X-WR-RELCALID:2c045ba3fb22f59bbdd65203b396dee3
X-WR-TIMEZONE:America/Chicago
BEGIN:VTIMEZONE
TZID:America/Chicago
BEGIN:STANDARD
TZNAME:CST
DTSTART:20241103T020000
TZOFFSETFROM:-0500
TZOFFSETTO:-0600
RDATE:20251102T020000
END:STANDARD
BEGIN:DAYLIGHT
TZNAME:CDT
DTSTART:20240310T020000
TZOFFSETFROM:-0600
TZOFFSETTO:-0500
RDATE:20250309T020000
RDATE:20260308T020000
END:DAYLIGHT
END:VTIMEZONE
BEGIN:VEVENT
UID:a9bd26ed-dfff-4166-b018-24e64236a359
DTSTAMP:20260421T085617Z
DESCRIPTION:One Tiny Turtle | An Interactive Preschool Class\n\n20 minutes 
 Interactive Preschool Classes\n\nYou are invited to a Zoom meeting.\nWhen:
  Nov 14\, 2024 09:00 AM Central Time (US and Canada)\n\nRegister in advanc
 e for this meeting:\nhttps://us02web.zoom.us/meeting/register/tZwuceGhpzwi
 GtPpEuxnrq9-DKiNDWMS_nFI\n\nAfter registering\, you will receive a confirm
 ation email containing information about joining the meeting.\n
DTSTART;TZID=America/Chicago:20241114T090000
DTEND;TZID=America/Chicago:20241114T093000
LOCATION:https://us02web.zoom.us/meeting/register/tZwuceGhpzwiGtPpEuxnrq9-D
 KiNDWMS_nFI
SUMMARY:One Tiny Turtle | An Interactive Preschool Class
END:VEVENT
END:VCALENDAR
