BEGIN:VCALENDAR
VERSION:2.0
PRODID:-//midwestchildcare.org//NONSGML kigkonsult.se iCalcreator 2.30.10//
CALSCALE:GREGORIAN
METHOD:PUBLISH
UID:c0f18c48-8b30-4c44-8fd5-9b830d280270
X-WR-CALDESC:Under the Sea | A Live Preschool Class\n\n30 minutes Education
 al Preschool Classes\n\nYou are invited to a Zoom meeting.When: Nov 7\, 20
 24 09:15 AM Central Time (US and Canada)\n\nRegister in advance for this m
 eeting:\nhttps://us02web.zoom.us/meeting/register/tZEqf-6rrTstG9Am3EH9OV_M
 puuZCYut7KxP\n\nAfter registering\, you will receive a confirmation email 
 containing information about joining the meeting.
X-WR-RELCALID:4d40303c1e722d5cb6af9d2a23bc73a3
X-WR-TIMEZONE:America/Chicago
BEGIN:VTIMEZONE
TZID:America/Chicago
BEGIN:STANDARD
TZNAME:CST
DTSTART:20241103T020000
TZOFFSETFROM:-0500
TZOFFSETTO:-0600
RDATE:20251102T020000
END:STANDARD
BEGIN:DAYLIGHT
TZNAME:CDT
DTSTART:20240310T020000
TZOFFSETFROM:-0600
TZOFFSETTO:-0500
RDATE:20250309T020000
RDATE:20260308T020000
END:DAYLIGHT
END:VTIMEZONE
BEGIN:VEVENT
UID:7ea9d140-1669-494a-8709-cac6c4598aa1
DTSTAMP:20260421T085139Z
DESCRIPTION:Under the Sea | A Live Preschool Class\n\n30 minutes Educationa
 l Preschool Classes\n\nYou are invited to a Zoom meeting.When: Nov 7\, 202
 4 09:15 AM Central Time (US and Canada)\n\nRegister in advance for this me
 eting:\nhttps://us02web.zoom.us/meeting/register/tZEqf-6rrTstG9Am3EH9OV_Mp
 uuZCYut7KxP\n\nAfter registering\, you will receive a confirmation email c
 ontaining information about joining the meeting.
DTSTART;TZID=America/Chicago:20241107T090000
DTEND;TZID=America/Chicago:20241107T100000
LOCATION:https://us02web.zoom.us/meeting/register/tZEqf-6rrTstG9Am3EH9OV_Mp
 uuZCYut7KxP
SUMMARY:Under the Sea | A Live Preschool Class
END:VEVENT
END:VCALENDAR
