BEGIN:VCALENDAR
VERSION:2.0
PRODID:-//midwestchildcare.org//NONSGML kigkonsult.se iCalcreator 2.30.10//
CALSCALE:GREGORIAN
METHOD:PUBLISH
UID:3ea0d6b2-f2f2-44ab-aaf8-814817b193b8
X-WR-CALDESC:Reptiles | A Preschool Class\n\n30 minutes Educational Prescho
 ol Classes\n\nYou are invited to a Zoom meeting.\nWhen: Nov 7\, 2024 08:30
  AM Central Time (US and Canada)\n\nRegister in advance for this meeting:
 \nhttps://us02web.zoom.us/meeting/register/tZAlcOysrDwtHdzzQrHFGFjnP9yggSN
 suhfH\n\nAfter registering\, you will receive a confirmation email contain
 ing information about joining the meeting.
X-WR-RELCALID:b3dc0e3260d7ddb64f1dc2be0d56e708
X-WR-TIMEZONE:America/Chicago
BEGIN:VTIMEZONE
TZID:America/Chicago
BEGIN:STANDARD
TZNAME:CST
DTSTART:20241103T020000
TZOFFSETFROM:-0500
TZOFFSETTO:-0600
RDATE:20251102T020000
END:STANDARD
BEGIN:DAYLIGHT
TZNAME:CDT
DTSTART:20240310T020000
TZOFFSETFROM:-0600
TZOFFSETTO:-0500
RDATE:20250309T020000
RDATE:20260308T020000
END:DAYLIGHT
END:VTIMEZONE
BEGIN:VEVENT
UID:832afb10-d571-4830-b4a0-3fc546950988
DTSTAMP:20260421T091024Z
DESCRIPTION:Reptiles | A Preschool Class\n\n30 minutes Educational Preschoo
 l Classes\n\nYou are invited to a Zoom meeting.\nWhen: Nov 7\, 2024 08:30 
 AM Central Time (US and Canada)\n\nRegister in advance for this meeting:\n
 https://us02web.zoom.us/meeting/register/tZAlcOysrDwtHdzzQrHFGFjnP9yggSNsu
 hfH\n\nAfter registering\, you will receive a confirmation email containin
 g information about joining the meeting.
DTSTART;TZID=America/Chicago:20241107T083000
DTEND;TZID=America/Chicago:20241107T093000
LOCATION:https://us02web.zoom.us/meeting/register/tZAlcOysrDwtHdzzQrHFGFjnP
 9yggSNsuhfH
SUMMARY:Reptiles | A Preschool Class
END:VEVENT
END:VCALENDAR
