BEGIN:VCALENDAR
VERSION:2.0
PRODID:-//midwestchildcare.org//NONSGML kigkonsult.se iCalcreator 2.30.10//
CALSCALE:GREGORIAN
METHOD:PUBLISH
UID:3e4935d4-6bf8-4153-b165-554463df3b77
X-WR-CALDESC:Class Number:	32289019\n\nClass Type:	Classroom Training\n\nDesc
 ription:	HSI Pediatric First Aid | CPR AED Child/Infant/Adult (2020)\n\nLoc
 ation:	\n7200 S 84th St\nLaVista\, NE 68128\n\nDate/Time:	11/07/2024\, 6:00 
 PM - 8:00 PM\n\nZoom *Renewal Class* (6 to 8 PM) & In-Person Hands On by A
 ppt (takes about 30 mins):\n\nhttps://otis.osmanager4.com/#/openEnrollment
 ?co=1&cid=4114001
X-WR-RELCALID:e8a89f82863d01d2e2af57c3589e1e20
X-WR-TIMEZONE:America/Chicago
BEGIN:VTIMEZONE
TZID:America/Chicago
BEGIN:STANDARD
TZNAME:CST
DTSTART:20241103T020000
TZOFFSETFROM:-0500
TZOFFSETTO:-0600
RDATE:20251102T020000
END:STANDARD
BEGIN:DAYLIGHT
TZNAME:CDT
DTSTART:20240310T020000
TZOFFSETFROM:-0600
TZOFFSETTO:-0500
RDATE:20250309T020000
RDATE:20260308T020000
END:DAYLIGHT
END:VTIMEZONE
BEGIN:VEVENT
UID:64b1d03a-bdcf-4634-beaa-5540b5bd3d52
DTSTAMP:20260421T090618Z
DESCRIPTION:Class Number:	32289019\n\nClass Type:	Classroom Training\n\nDescr
 iption:	HSI Pediatric First Aid | CPR AED Child/Infant/Adult (2020)\n\nLoca
 tion:	\n7200 S 84th St\nLaVista\, NE 68128\n\nDate/Time:	11/07/2024\, 6:00 P
 M - 8:00 PM\n\nZoom *Renewal Class* (6 to 8 PM) & In-Person Hands On by Ap
 pt (takes about 30 mins):\n\nhttps://otis.osmanager4.com/#/openEnrollment?
 co=1&cid=4114001
DTSTART;TZID=America/Chicago:20241107T180000
DTEND;TZID=America/Chicago:20241107T200000
LOCATION:7200 S 84th St\, Omaha\, NE 68128 US
SUMMARY:HSI Pediatric First Aid | CPR AED Child/Infant/Adult (2020)
END:VEVENT
END:VCALENDAR
