BEGIN:VCALENDAR
VERSION:2.0
PRODID:-//midwestchildcare.org//NONSGML kigkonsult.se iCalcreator 2.30.10//
CALSCALE:GREGORIAN
METHOD:PUBLISH
UID:220ee4fc-22fa-4809-9503-4000eee952b4
X-WR-CALDESC:Miss Fiona's Stupendous Pumpkin Pie | An Interactive Preschool
  Class\n\nYou are invited to a Zoom meeting.When: Oct 31\, 2024 09:30 AM C
 entral Time (US and Canada)\n\nRegister in advance for this meeting:\nhttp
 s://us02web.zoom.us/meeting/register/tZcrdO2orT4oGtaN8OVoHkSRx3R3kR_8gZih
 \n\nAfter registering\, you will receive a confirmation email containing i
 nformation about joining the meeting.
X-WR-RELCALID:0a1904031a66c811ab9fba7e1dd0999f
X-WR-TIMEZONE:America/Chicago
BEGIN:VTIMEZONE
TZID:America/Chicago
BEGIN:STANDARD
TZNAME:CST
DTSTART:20231105T020000
TZOFFSETFROM:-0500
TZOFFSETTO:-0600
RDATE:20241103T020000
RDATE:20251102T020000
END:STANDARD
BEGIN:DAYLIGHT
TZNAME:CDT
DTSTART:20240310T020000
TZOFFSETFROM:-0600
TZOFFSETTO:-0500
RDATE:20250309T020000
RDATE:20260308T020000
END:DAYLIGHT
END:VTIMEZONE
BEGIN:VEVENT
UID:4cf4b545-3967-434a-92b7-36c4b8cd4243
DTSTAMP:20260423T110711Z
DESCRIPTION:Miss Fiona's Stupendous Pumpkin Pie | An Interactive Preschool 
 Class\n\nYou are invited to a Zoom meeting.When: Oct 31\, 2024 09:30 AM Ce
 ntral Time (US and Canada)\n\nRegister in advance for this meeting:\nhttps
 ://us02web.zoom.us/meeting/register/tZcrdO2orT4oGtaN8OVoHkSRx3R3kR_8gZih\n
 \nAfter registering\, you will receive a confirmation email containing inf
 ormation about joining the meeting.
DTSTART;TZID=America/Chicago:20241031T093000
DTEND;TZID=America/Chicago:20241031T103000
LOCATION:https://us02web.zoom.us/meeting/register/tZcrdO2orT4oGtaN8OVoHkSRx
 3R3kR_8gZih
SUMMARY:Miss Fiona's Stupendous Pumpkin Pie | An Interactive Preschool Clas
 s
END:VEVENT
END:VCALENDAR
