BEGIN:VCALENDAR
VERSION:2.0
PRODID:-//midwestchildcare.org//NONSGML kigkonsult.se iCalcreator 2.30.10//
CALSCALE:GREGORIAN
METHOD:PUBLISH
UID:fcc04e90-3ca0-4361-98e1-8e69172fb6d1
X-WR-CALDESC:Miss Fiona's Stupendous Pumpkin Pie | An Interactive Preschool
  Class\n\nYou are invited to a Zoom meeting.\nWhen: Oct 31\, 2024 09:00 AM
  Central Time (US and Canada)\n\nRegister in advance for this meeting:\nht
 tps://us02web.zoom.us/meeting/register/tZEtfuuprDguH9ALUdnUqLS7t431xwVU5xR
 H\n\nAfter registering\, you will receive a confirmation email containing 
 information about joining the meeting.
X-WR-RELCALID:69ee6317d6b6a214c9aa063870b9d1f5
X-WR-TIMEZONE:America/Chicago
BEGIN:VTIMEZONE
TZID:America/Chicago
BEGIN:STANDARD
TZNAME:CST
DTSTART:20231105T020000
TZOFFSETFROM:-0500
TZOFFSETTO:-0600
RDATE:20241103T020000
RDATE:20251102T020000
END:STANDARD
BEGIN:DAYLIGHT
TZNAME:CDT
DTSTART:20240310T020000
TZOFFSETFROM:-0600
TZOFFSETTO:-0500
RDATE:20250309T020000
RDATE:20260308T020000
END:DAYLIGHT
END:VTIMEZONE
BEGIN:VEVENT
UID:e154309d-7ee9-48f6-9926-9ac8a60687ca
DTSTAMP:20260421T105021Z
DESCRIPTION:Miss Fiona's Stupendous Pumpkin Pie | An Interactive Preschool 
 Class\n\nYou are invited to a Zoom meeting.\nWhen: Oct 31\, 2024 09:00 AM 
 Central Time (US and Canada)\n\nRegister in advance for this meeting:\nhtt
 ps://us02web.zoom.us/meeting/register/tZEtfuuprDguH9ALUdnUqLS7t431xwVU5xRH
 \n\nAfter registering\, you will receive a confirmation email containing i
 nformation about joining the meeting.
DTSTART;TZID=America/Chicago:20241031T090000
DTEND;TZID=America/Chicago:20241031T100000
LOCATION:https://us02web.zoom.us/meeting/register/tZEtfuuprDguH9ALUdnUqLS7t
 431xwVU5xRH
SUMMARY:Miss Fiona's Stupendous Pumpkin Pie | An Interactive Preschool Clas
 s
END:VEVENT
END:VCALENDAR
