BEGIN:VCALENDAR
VERSION:2.0
PRODID:-//midwestchildcare.org//NONSGML kigkonsult.se iCalcreator 2.30.10//
CALSCALE:GREGORIAN
METHOD:PUBLISH
UID:89ac1b51-7611-4bcd-8caa-723607349b97
X-WR-CALDESC:HSI Pediatric First Aid | CPR AED Child/Infant/Adult\n\nZoom F
 ull Class (6 to 10 PM) & Hands On by Appt:https://otis.osmanager4.com/#/op
 enEnrollment?co=1&cid=4004901
X-WR-RELCALID:a7767c2159b2b0cbade4e8ddb2cd6d28
X-WR-TIMEZONE:America/Chicago
BEGIN:VTIMEZONE
TZID:America/Chicago
BEGIN:STANDARD
TZNAME:CST
DTSTART:20231105T020000
TZOFFSETFROM:-0500
TZOFFSETTO:-0600
RDATE:20241103T020000
RDATE:20251102T020000
END:STANDARD
BEGIN:DAYLIGHT
TZNAME:CDT
DTSTART:20240310T020000
TZOFFSETFROM:-0600
TZOFFSETTO:-0500
RDATE:20250309T020000
RDATE:20260308T020000
END:DAYLIGHT
END:VTIMEZONE
BEGIN:VEVENT
UID:d5366349-5f98-483e-b976-adaf80925ec7
DTSTAMP:20260421T103517Z
DESCRIPTION:HSI Pediatric First Aid | CPR AED Child/Infant/Adult\n\nZoom Fu
 ll Class (6 to 10 PM) & Hands On by Appt:https://otis.osmanager4.com/#/ope
 nEnrollment?co=1&cid=4004901
DTSTART;TZID=America/Chicago:20241017T180000
DTEND;TZID=America/Chicago:20241017T220000
LOCATION:https://otis.osmanager4.com/#/openEnrollment?co=1&cid=4004901
SUMMARY:HSI Pediatric First Aid | CPR AED Child/Infant/Adult - Zoom Full Cl
 ass
END:VEVENT
END:VCALENDAR
