BEGIN:VCALENDAR
VERSION:2.0
PRODID:-//midwestchildcare.org//NONSGML kigkonsult.se iCalcreator 2.30.10//
CALSCALE:GREGORIAN
METHOD:PUBLISH
UID:39fabfea-9341-4574-9b82-d803ac067d91
X-WR-CALDESC:HSI Pediatric First Aid | CPR AED Child/Infant/Adult - Zoom Re
 newal Class
X-WR-RELCALID:c559e09910355ac3690b27734fa9d614
X-WR-TIMEZONE:America/Chicago
BEGIN:VTIMEZONE
TZID:America/Chicago
BEGIN:STANDARD
TZNAME:CST
DTSTART:20231105T020000
TZOFFSETFROM:-0500
TZOFFSETTO:-0600
RDATE:20241103T020000
RDATE:20251102T020000
END:STANDARD
BEGIN:DAYLIGHT
TZNAME:CDT
DTSTART:20240310T020000
TZOFFSETFROM:-0600
TZOFFSETTO:-0500
RDATE:20250309T020000
RDATE:20260308T020000
END:DAYLIGHT
END:VTIMEZONE
BEGIN:VEVENT
UID:dc35b54e-ae39-47b9-ae0d-b7051d11836a
DTSTAMP:20260421T105236Z
DESCRIPTION:HSI Pediatric First Aid | CPR AED Child/Infant/Adult - Zoom Ren
 ewal Class
DTSTART;TZID=America/Chicago:20241003T180000
DTEND;TZID=America/Chicago:20241003T200000
LOCATION:https://otis.osmanager4.com/#/openEnrollment?co=1&cid=4114000
SUMMARY:HSI Pediatric First Aid | CPR AED Child/Infant/Adult - Zoom Renewal
  Class
END:VEVENT
END:VCALENDAR
