BEGIN:VCALENDAR
VERSION:2.0
PRODID:-//midwestchildcare.org//NONSGML kigkonsult.se iCalcreator 2.30.10//
CALSCALE:GREGORIAN
METHOD:PUBLISH
UID:3ee1fd6b-b0ee-4c49-b209-636ca86dbb50
X-WR-CALDESC:HSI Pediatric First Aid | CPR AED Child/Infant/Adult (2020)\n
 \nCLASS NUMBER: 32198061\n\nCLASS TYPE:	Classroom Training\n\nDESCRIPTION: 
 HSI Pediatric First Aid | CPR AED Child/Infant/Adult (2020)\n\nLOCATION:	\n
 7701 Pacific St\nOmaha\, NE 68114\n\nDATE/TIME:	09/26/2024\, 6:00 PM - 10:0
 0 PM
X-WR-RELCALID:76a56ed2b0992208fd29e39ce33d4b2f
X-WR-TIMEZONE:America/Chicago
BEGIN:VTIMEZONE
TZID:America/Chicago
BEGIN:STANDARD
TZNAME:CST
DTSTART:20231105T020000
TZOFFSETFROM:-0500
TZOFFSETTO:-0600
RDATE:20241103T020000
RDATE:20251102T020000
END:STANDARD
BEGIN:DAYLIGHT
TZNAME:CDT
DTSTART:20240310T020000
TZOFFSETFROM:-0600
TZOFFSETTO:-0500
RDATE:20250309T020000
RDATE:20260308T020000
END:DAYLIGHT
END:VTIMEZONE
BEGIN:VEVENT
UID:d4488581-a697-4b16-848f-41453219c701
DTSTAMP:20260421T123729Z
DESCRIPTION:HSI Pediatric First Aid | CPR AED Child/Infant/Adult (2020)\n\n
 CLASS NUMBER: 32198061\n\nCLASS TYPE:	Classroom Training\n\nDESCRIPTION: HS
 I Pediatric First Aid | CPR AED Child/Infant/Adult (2020)\n\nLOCATION:	\n77
 01 Pacific St\nOmaha\, NE 68114\n\nDATE/TIME:	09/26/2024\, 6:00 PM - 10:00 
 PM
DTSTART;TZID=America/Chicago:20240926T180000
DTEND;TZID=America/Chicago:20240926T220000
LOCATION:7701 Pacific St \, Omaha\, NE 68114 US
SUMMARY:HSI Pediatric First Aid | CPR AED Child/Infant/Adult - In-Person Cl
 ass
END:VEVENT
END:VCALENDAR
