BEGIN:VCALENDAR
VERSION:2.0
PRODID:-//midwestchildcare.org//NONSGML kigkonsult.se iCalcreator 2.30.10//
CALSCALE:GREGORIAN
METHOD:PUBLISH
UID:82f7a134-34ef-4545-91cf-1083dd710c3b
X-WR-CALDESC:How I Became a Pirate | An Interactive Preschool Class\n\nYou 
 are invited to a Zoom meeting.When: Sep 26\, 2024 09:30 AM Central Time (U
 S and Canada)\n\nRegister in advance for this meeting:\nhttps://us02web.zo
 om.us/meeting/register/tZYqcuGupjspH9w53yBBQn1nHs62rMP5P2oA\n\nAfter regis
 tering\, you will receive a confirmation email containing information abou
 t joining the meeting.
X-WR-RELCALID:1d0a59e68c073b237b51c05ce27a8d28
X-WR-TIMEZONE:America/Chicago
BEGIN:VTIMEZONE
TZID:America/Chicago
BEGIN:STANDARD
TZNAME:CST
DTSTART:20231105T020000
TZOFFSETFROM:-0500
TZOFFSETTO:-0600
RDATE:20241103T020000
RDATE:20251102T020000
END:STANDARD
BEGIN:DAYLIGHT
TZNAME:CDT
DTSTART:20240310T020000
TZOFFSETFROM:-0600
TZOFFSETTO:-0500
RDATE:20250309T020000
RDATE:20260308T020000
END:DAYLIGHT
END:VTIMEZONE
BEGIN:VEVENT
UID:3eeb7a79-6b4d-4dd3-91ba-552ccc9996ac
DTSTAMP:20260421T123303Z
DESCRIPTION:How I Became a Pirate | An Interactive Preschool Class\n\nYou a
 re invited to a Zoom meeting.When: Sep 26\, 2024 09:30 AM Central Time (US
  and Canada)\n\nRegister in advance for this meeting:\nhttps://us02web.zoo
 m.us/meeting/register/tZYqcuGupjspH9w53yBBQn1nHs62rMP5P2oA\n\nAfter regist
 ering\, you will receive a confirmation email containing information about
  joining the meeting.
DTSTART;TZID=America/Chicago:20240926T093000
DTEND;TZID=America/Chicago:20240926T103000
LOCATION:https://us02web.zoom.us/meeting/register/tZYqcuGupjspH9w53yBBQn1nH
 s62rMP5P2oA
SUMMARY:How I Became a Pirate | An Interactive Preschool Class
END:VEVENT
END:VCALENDAR
