BEGIN:VCALENDAR
VERSION:2.0
PRODID:-//midwestchildcare.org//NONSGML kigkonsult.se iCalcreator 2.30.10//
CALSCALE:GREGORIAN
METHOD:PUBLISH
UID:431f2b83-3bb3-401e-9e5d-ae7b38b59746
X-WR-CALDESC:Noisy Animal ABC | An Interactive Preschool Class\n\nYou are i
 nvited to a Zoom meeting.When: Sep 12\, 2024 10:00 AM Central Time (US and
  Canada)\n\nRegister in advance for this meeting:\nhttps://us02web.zoom.us
 /meeting/register/tZMpfuGurDsrGdZLmZlyzd9ypMCXmMTpv5b6
X-WR-RELCALID:cef5fe5b4c59dd04a4cd87c051dfe32e
X-WR-TIMEZONE:America/Chicago
BEGIN:VTIMEZONE
TZID:America/Chicago
BEGIN:STANDARD
TZNAME:CST
DTSTART:20231105T020000
TZOFFSETFROM:-0500
TZOFFSETTO:-0600
RDATE:20241103T020000
RDATE:20251102T020000
END:STANDARD
BEGIN:DAYLIGHT
TZNAME:CDT
DTSTART:20240310T020000
TZOFFSETFROM:-0600
TZOFFSETTO:-0500
RDATE:20250309T020000
RDATE:20260308T020000
END:DAYLIGHT
END:VTIMEZONE
BEGIN:VEVENT
UID:3c38da6e-fd8c-44fa-b462-98c18c8ec064
DTSTAMP:20260421T123156Z
DESCRIPTION:Noisy Animal ABC | An Interactive Preschool Class\n\nYou are in
 vited to a Zoom meeting.When: Sep 12\, 2024 10:00 AM Central Time (US and 
 Canada)\n\nRegister in advance for this meeting:\nhttps://us02web.zoom.us/
 meeting/register/tZMpfuGurDsrGdZLmZlyzd9ypMCXmMTpv5b6
DTSTART;TZID=America/Chicago:20240912T100000
DTEND;TZID=America/Chicago:20240912T110000
LOCATION:https://us02web.zoom.us/meeting/register/tZMpfuGurDsrGdZLmZlyzd9yp
 MCXmMTpv5b6
SUMMARY:Noisy Animal ABC | An Interactive Preschool Class
END:VEVENT
END:VCALENDAR
