BEGIN:VCALENDAR
VERSION:2.0
PRODID:-//midwestchildcare.org//NONSGML kigkonsult.se iCalcreator 2.30.10//
CALSCALE:GREGORIAN
METHOD:PUBLISH
UID:88479d50-906b-4c11-a3b4-33d906f6374b
X-WR-CALDESC:HSI Pediatric First Aid | CPR AED Child/Infant/Adult \n\nZoom 
 *Renewal Class* (6 to 8 PM) & Hands On by Appt:\nhttps://otis.osmanager4.c
 om/#/openEnrollment?co=1&cid=4113998
X-WR-RELCALID:2cfceec5f8b0db23afe877798f3b9799
X-WR-TIMEZONE:America/Chicago
BEGIN:VTIMEZONE
TZID:America/Chicago
BEGIN:STANDARD
TZNAME:CST
DTSTART:20231105T020000
TZOFFSETFROM:-0500
TZOFFSETTO:-0600
RDATE:20241103T020000
RDATE:20251102T020000
END:STANDARD
BEGIN:DAYLIGHT
TZNAME:CDT
DTSTART:20240310T020000
TZOFFSETFROM:-0600
TZOFFSETTO:-0500
RDATE:20250309T020000
RDATE:20260308T020000
END:DAYLIGHT
END:VTIMEZONE
BEGIN:VEVENT
UID:3bb441ee-b25c-4ee5-91e8-13e0fbef884e
DTSTAMP:20260421T123303Z
DESCRIPTION:HSI Pediatric First Aid | CPR AED Child/Infant/Adult \n\nZoom *
 Renewal Class* (6 to 8 PM) & Hands On by Appt:\nhttps://otis.osmanager4.co
 m/#/openEnrollment?co=1&cid=4113998
DTSTART;TZID=America/Chicago:20240912T180000
DTEND;TZID=America/Chicago:20240912T200000
LOCATION:https://otis.osmanager4.com/#/openEnrollment?co=1&cid=4113998
SUMMARY:HSI Pediatric First Aid | CPR AED Child/Infant/Adult
END:VEVENT
END:VCALENDAR
