BEGIN:VCALENDAR
VERSION:2.0
PRODID:-//midwestchildcare.org//NONSGML kigkonsult.se iCalcreator 2.30.10//
CALSCALE:GREGORIAN
METHOD:PUBLISH
UID:1963ab16-c940-488a-b1f2-cae135301528
X-WR-CALDESC:When I was Little | An Interactive Preschool Class\n\nYou are 
 invited to a Zoom meeting.When: Sep 5\, 2024 10:00 AM Central Time (US and
  Canada)\n\nRegister in advance for this meeting:\nhttps://us02web.zoom.us
 /meeting/register/tZUvdemsqTMoGdyNVFEcpXkaxx9_Z-cG8vU3
X-WR-RELCALID:c5679c97d6444613eff0979e6bc8b78a
X-WR-TIMEZONE:America/Chicago
BEGIN:VTIMEZONE
TZID:America/Chicago
BEGIN:STANDARD
TZNAME:CST
DTSTART:20231105T020000
TZOFFSETFROM:-0500
TZOFFSETTO:-0600
RDATE:20241103T020000
RDATE:20251102T020000
END:STANDARD
BEGIN:DAYLIGHT
TZNAME:CDT
DTSTART:20240310T020000
TZOFFSETFROM:-0600
TZOFFSETTO:-0500
RDATE:20250309T020000
END:DAYLIGHT
END:VTIMEZONE
BEGIN:VEVENT
UID:5e5963f5-dc7f-4dd0-ac7f-dee5618a829b
DTSTAMP:20260421T123305Z
DESCRIPTION:When I was Little | An Interactive Preschool Class\n\nYou are i
 nvited to a Zoom meeting.When: Sep 5\, 2024 10:00 AM Central Time (US and 
 Canada)\n\nRegister in advance for this meeting:\nhttps://us02web.zoom.us/
 meeting/register/tZUvdemsqTMoGdyNVFEcpXkaxx9_Z-cG8vU3
DTSTART;TZID=America/Chicago:20240905T100000
DTEND;TZID=America/Chicago:20240905T110000
LOCATION:https://us02web.zoom.us/meeting/register/tZUvdemsqTMoGdyNVFEcpXkax
 x9_Z-cG8vU3
SUMMARY:When I was Little | An Interactive Preschool Class
END:VEVENT
END:VCALENDAR
