BEGIN:VCALENDAR
VERSION:2.0
PRODID:-//midwestchildcare.org//NONSGML kigkonsult.se iCalcreator 2.30.10//
CALSCALE:GREGORIAN
METHOD:PUBLISH
UID:56dda5b1-f148-43ca-83aa-bfd2ca34588c
X-WR-CALDESC:When I was Little | An Interactive Preschool Class\n\nYou are 
 invited to a Zoom meeting.\nWhen: Sep 5\, 2024 09:00 AM Central Time (US a
 nd Canada)\n\nRegister in advance for this meeting:\nhttps://us02web.zoom.
 us/meeting/register/tZIscu2rqzwsHN2t5mAnAbhlFL81VmRnuvhR\n
X-WR-RELCALID:29f4903f46dd6eae12d03779abbf2904
X-WR-TIMEZONE:America/Chicago
BEGIN:VTIMEZONE
TZID:America/Chicago
BEGIN:STANDARD
TZNAME:CST
DTSTART:20231105T020000
TZOFFSETFROM:-0500
TZOFFSETTO:-0600
RDATE:20241103T020000
RDATE:20251102T020000
END:STANDARD
BEGIN:DAYLIGHT
TZNAME:CDT
DTSTART:20240310T020000
TZOFFSETFROM:-0600
TZOFFSETTO:-0500
RDATE:20250309T020000
END:DAYLIGHT
END:VTIMEZONE
BEGIN:VEVENT
UID:d49f5e90-8b6a-4647-8d6d-ee4c49da7ce5
DTSTAMP:20260421T123107Z
DESCRIPTION:When I was Little | An Interactive Preschool Class\n\nYou are i
 nvited to a Zoom meeting.\nWhen: Sep 5\, 2024 09:00 AM Central Time (US an
 d Canada)\n\nRegister in advance for this meeting:\nhttps://us02web.zoom.u
 s/meeting/register/tZIscu2rqzwsHN2t5mAnAbhlFL81VmRnuvhR\n
DTSTART;TZID=America/Chicago:20240905T090000
DTEND;TZID=America/Chicago:20240905T100000
LOCATION:https://us02web.zoom.us/meeting/register/tZIscu2rqzwsHN2t5mAnAbhlF
 L81VmRnuvhR
SUMMARY:When I was Little | An Interactive Preschool Class
END:VEVENT
END:VCALENDAR
