BEGIN:VCALENDAR
VERSION:2.0
PRODID:-//midwestchildcare.org//NONSGML kigkonsult.se iCalcreator 2.30.10//
CALSCALE:GREGORIAN
METHOD:PUBLISH
UID:67b9c9de-158e-46a3-87c3-9ced9db0b1bb
X-WR-CALDESC:Inky the Octopus | An Interactive Preschool Class\n\nYou are i
 nvited to a Zoom meeting.When: Aug 29\, 2024 10:00 AM Central Time (US and
  Canada)\n\nRegister in advance for this meeting:\nhttps://us02web.zoom.us
 /meeting/register/tZwuf-ypqzItEtC7alrHxuYuRpx3NYMVyhQE\n\nAfter registerin
 g\, you will receive a confirmation email containing information about joi
 ning the meeting.
X-WR-RELCALID:b5f034d0fb3b1dd630d1f5f4b6db2d57
X-WR-TIMEZONE:America/Chicago
BEGIN:VTIMEZONE
TZID:America/Chicago
BEGIN:STANDARD
TZNAME:CST
DTSTART:20231105T020000
TZOFFSETFROM:-0500
TZOFFSETTO:-0600
RDATE:20241103T020000
RDATE:20251102T020000
END:STANDARD
BEGIN:DAYLIGHT
TZNAME:CDT
DTSTART:20240310T020000
TZOFFSETFROM:-0600
TZOFFSETTO:-0500
RDATE:20250309T020000
END:DAYLIGHT
END:VTIMEZONE
BEGIN:VEVENT
UID:02e47690-5467-4661-a11e-8e519d28baac
DTSTAMP:20260421T140210Z
DESCRIPTION:Inky the Octopus | An Interactive Preschool Class\n\nYou are in
 vited to a Zoom meeting.When: Aug 29\, 2024 10:00 AM Central Time (US and 
 Canada)\n\nRegister in advance for this meeting:\nhttps://us02web.zoom.us/
 meeting/register/tZwuf-ypqzItEtC7alrHxuYuRpx3NYMVyhQE\n\nAfter registering
 \, you will receive a confirmation email containing information about join
 ing the meeting.
DTSTART;TZID=America/Chicago:20240829T100000
DTEND;TZID=America/Chicago:20240829T110000
LOCATION:https://us02web.zoom.us/meeting/register/tZwuf-ypqzItEtC7alrHxuYuR
 px3NYMVyhQE
SUMMARY:Inky the Octopus | An Interactive Preschool Class
END:VEVENT
END:VCALENDAR
