BEGIN:VCALENDAR
VERSION:2.0
PRODID:-//midwestchildcare.org//NONSGML kigkonsult.se iCalcreator 2.30.10//
CALSCALE:GREGORIAN
METHOD:PUBLISH
UID:cf028c1b-82d6-4ee7-a0ca-f4d748649477
X-WR-CALDESC:Inky the Octopus | An Interactive Preschool Class\n\nYou are i
 nvited to a Zoom meeting.\nWhen: Aug 29\, 2024 09:30 AM Central Time (US a
 nd Canada)\n\nRegister in advance for this meeting:\nhttps://us02web.zoom.
 us/meeting/register/tZwvceuprTMrGdLws25EGsBU0-IDzadevhJm\n\nAfter register
 ing\, you will receive a confirmation email containing information about j
 oining the meeting.
X-WR-RELCALID:ff92f23e658e4187411823eae773ce68
X-WR-TIMEZONE:America/Chicago
BEGIN:VTIMEZONE
TZID:America/Chicago
BEGIN:STANDARD
TZNAME:CST
DTSTART:20231105T020000
TZOFFSETFROM:-0500
TZOFFSETTO:-0600
RDATE:20241103T020000
RDATE:20251102T020000
END:STANDARD
BEGIN:DAYLIGHT
TZNAME:CDT
DTSTART:20240310T020000
TZOFFSETFROM:-0600
TZOFFSETTO:-0500
RDATE:20250309T020000
END:DAYLIGHT
END:VTIMEZONE
BEGIN:VEVENT
UID:535c30a6-88cd-4dc6-be6b-036118d8a3f5
DTSTAMP:20260421T140238Z
DESCRIPTION:Inky the Octopus | An Interactive Preschool Class\n\nYou are in
 vited to a Zoom meeting.\nWhen: Aug 29\, 2024 09:30 AM Central Time (US an
 d Canada)\n\nRegister in advance for this meeting:\nhttps://us02web.zoom.u
 s/meeting/register/tZwvceuprTMrGdLws25EGsBU0-IDzadevhJm\n\nAfter registeri
 ng\, you will receive a confirmation email containing information about jo
 ining the meeting.
DTSTART;TZID=America/Chicago:20240829T093000
DTEND;TZID=America/Chicago:20240829T103000
LOCATION:https://us02web.zoom.us/meeting/register/tZwvceuprTMrGdLws25EGsBU0
 -IDzadevhJm
SUMMARY:Inky the Octopus | An Interactive Preschool Class
END:VEVENT
END:VCALENDAR
