BEGIN:VCALENDAR
VERSION:2.0
PRODID:-//midwestchildcare.org//NONSGML kigkonsult.se iCalcreator 2.30.10//
CALSCALE:GREGORIAN
METHOD:PUBLISH
UID:1ca38878-acd3-43ad-898a-33c91fe5da06
X-WR-CALDESC:This in NOT a Unicorn! | An Interactive Preschool Class\n\nYou
  are invited to a Zoom meeting.When: Aug 22\, 2024 09:30 AM Central Time (
 US and Canada)\n\nRegister in advance for this meeting:\nhttps://us02web.z
 oom.us/meeting/register/tZAkdOCvqj0tGdz0nlc-TAr_XFXX_8Tc3k7g\n\nAfter regi
 stering\, you will receive a confirmation email containing information abo
 ut joining the meeting.
X-WR-RELCALID:42d7cfb64c68f1d1bdbd7c58bd719d4c
X-WR-TIMEZONE:America/Chicago
BEGIN:VTIMEZONE
TZID:America/Chicago
BEGIN:STANDARD
TZNAME:CST
DTSTART:20231105T020000
TZOFFSETFROM:-0500
TZOFFSETTO:-0600
RDATE:20241103T020000
RDATE:20251102T020000
END:STANDARD
BEGIN:DAYLIGHT
TZNAME:CDT
DTSTART:20240310T020000
TZOFFSETFROM:-0600
TZOFFSETTO:-0500
RDATE:20250309T020000
END:DAYLIGHT
END:VTIMEZONE
BEGIN:VEVENT
UID:0a9eabc3-55f3-4990-85fc-00c395bc8a13
DTSTAMP:20260421T141016Z
DESCRIPTION:This in NOT a Unicorn! | An Interactive Preschool Class\n\nYou 
 are invited to a Zoom meeting.When: Aug 22\, 2024 09:30 AM Central Time (U
 S and Canada)\n\nRegister in advance for this meeting:\nhttps://us02web.zo
 om.us/meeting/register/tZAkdOCvqj0tGdz0nlc-TAr_XFXX_8Tc3k7g\n\nAfter regis
 tering\, you will receive a confirmation email containing information abou
 t joining the meeting.
DTSTART;TZID=America/Chicago:20240822T093000
DTEND;TZID=America/Chicago:20240822T103000
LOCATION:https://us02web.zoom.us/meeting/register/tZAkdOCvqj0tGdz0nlc-TAr_X
 FXX_8Tc3k7g
SUMMARY:This in NOT a Unicorn! | An Interactive Preschool Class
END:VEVENT
END:VCALENDAR
