BEGIN:VCALENDAR
VERSION:2.0
PRODID:-//midwestchildcare.org//NONSGML kigkonsult.se iCalcreator 2.30.10//
CALSCALE:GREGORIAN
METHOD:PUBLISH
UID:13c3bbcf-c9be-47a1-9b0c-a2c988fddf6e
X-WR-CALDESC:You Will Be My Friend | An Interactive Preschool Class\n\nYou 
 are invited to a Zoom meeting.\nWhen: Aug 15\, 2024 09:00 AM Central Time 
 (US and Canada)\n\nRegister in advance for this meeting:\nhttps://us02web.
 zoom.us/meeting/register/tZ0kd-uprjgpHN0sqsD_4vn_kEgrq5ZysFKZ
X-WR-RELCALID:f780596b8dfdb065294ab01bd2060a95
X-WR-TIMEZONE:America/Chicago
BEGIN:VTIMEZONE
TZID:America/Chicago
BEGIN:STANDARD
TZNAME:CST
DTSTART:20231105T020000
TZOFFSETFROM:-0500
TZOFFSETTO:-0600
RDATE:20241103T020000
RDATE:20251102T020000
END:STANDARD
BEGIN:DAYLIGHT
TZNAME:CDT
DTSTART:20240310T020000
TZOFFSETFROM:-0600
TZOFFSETTO:-0500
RDATE:20250309T020000
END:DAYLIGHT
END:VTIMEZONE
BEGIN:VEVENT
UID:0c6b290a-feeb-44e8-896f-ad0d1f25bf20
DTSTAMP:20260421T141048Z
DESCRIPTION:You Will Be My Friend | An Interactive Preschool Class\n\nYou a
 re invited to a Zoom meeting.\nWhen: Aug 15\, 2024 09:00 AM Central Time (
 US and Canada)\n\nRegister in advance for this meeting:\nhttps://us02web.z
 oom.us/meeting/register/tZ0kd-uprjgpHN0sqsD_4vn_kEgrq5ZysFKZ
DTSTART;TZID=America/Chicago:20240815T090000
DTEND;TZID=America/Chicago:20240815T100000
LOCATION:https://us02web.zoom.us/meeting/register/tZ0kd-uprjgpHN0sqsD_4vn_k
 Egrq5ZysFKZ
SUMMARY:You Will Be My Friend | An Interactive Preschool Class
END:VEVENT
END:VCALENDAR
