BEGIN:VCALENDAR
VERSION:2.0
PRODID:-//midwestchildcare.org//NONSGML kigkonsult.se iCalcreator 2.30.10//
CALSCALE:GREGORIAN
METHOD:PUBLISH
UID:8a541e00-83f5-40ef-b2eb-8e559acf2305
X-WR-CALDESC:Some Pets | An Interactive Preschool Class\n\n You are invited
  to a Zoom meeting.When: Aug 1\, 2024 10:00 AM Central Time (US and Canada
 )\n\nRegister in advance for this meeting:\nhttps://us02web.zoom.us/meetin
 g/register/tZYuce-sqDwoE9CDXDXPPBp_20THaXNldNWV\n\nAfter registering\, you
  will receive a confirmation email containing information about joining th
 e meeting.\n\n
X-WR-RELCALID:c0e1acbea14ecea606cf35eff317c9db
X-WR-TIMEZONE:America/Chicago
BEGIN:VTIMEZONE
TZID:America/Chicago
BEGIN:STANDARD
TZNAME:CST
DTSTART:20231105T020000
TZOFFSETFROM:-0500
TZOFFSETTO:-0600
RDATE:20241103T020000
RDATE:20251102T020000
END:STANDARD
BEGIN:DAYLIGHT
TZNAME:CDT
DTSTART:20240310T020000
TZOFFSETFROM:-0600
TZOFFSETTO:-0500
RDATE:20250309T020000
END:DAYLIGHT
END:VTIMEZONE
BEGIN:VEVENT
UID:03348c85-7b9b-42b1-a287-4d61242beeb7
DTSTAMP:20260421T140511Z
DESCRIPTION:Some Pets | An Interactive Preschool Class\n\n You are invited 
 to a Zoom meeting.When: Aug 1\, 2024 10:00 AM Central Time (US and Canada)
 \n\nRegister in advance for this meeting:\nhttps://us02web.zoom.us/meeting
 /register/tZYuce-sqDwoE9CDXDXPPBp_20THaXNldNWV\n\nAfter registering\, you 
 will receive a confirmation email containing information about joining the
  meeting.\n\n
DTSTART;TZID=America/Chicago:20240801T100000
DTEND;TZID=America/Chicago:20240801T110000
LOCATION:https://us02web.zoom.us/meeting/register/tZYuce-sqDwoE9CDXDXPPBp_2
 0THaXNldNWV
SUMMARY:Some Pets | An Interactive Preschool Class
END:VEVENT
END:VCALENDAR
