BEGIN:VCALENDAR
VERSION:2.0
PRODID:-//midwestchildcare.org//NONSGML kigkonsult.se iCalcreator 2.30.10//
CALSCALE:GREGORIAN
METHOD:PUBLISH
UID:6dcc73cf-9f80-408a-8f7f-38935c40a931
X-WR-CALDESC:Some Pets | An Interactive Preschool Class\n\nYou are invited 
 to a Zoom meeting.When: Aug 1\, 2024 09:30 AM Central Time (US and Canada)
 \n\nRegister in advance for this meeting:\nhttps://us02web.zoom.us/meeting
 /register/tZwkceGoqz4iHdCwjv4o_HgphlsERiXfC24N\n\nAfter registering\, you 
 will receive a confirmation email containing information about joining the
  meeting.
X-WR-RELCALID:45f272860cc19c18a8a8b87d5573ef53
X-WR-TIMEZONE:America/Chicago
BEGIN:VTIMEZONE
TZID:America/Chicago
BEGIN:STANDARD
TZNAME:CST
DTSTART:20231105T020000
TZOFFSETFROM:-0500
TZOFFSETTO:-0600
RDATE:20241103T020000
RDATE:20251102T020000
END:STANDARD
BEGIN:DAYLIGHT
TZNAME:CDT
DTSTART:20240310T020000
TZOFFSETFROM:-0600
TZOFFSETTO:-0500
RDATE:20250309T020000
END:DAYLIGHT
END:VTIMEZONE
BEGIN:VEVENT
UID:d6156e90-7803-45d4-be6f-86fe72101a8d
DTSTAMP:20260421T135417Z
DESCRIPTION:Some Pets | An Interactive Preschool Class\n\nYou are invited t
 o a Zoom meeting.When: Aug 1\, 2024 09:30 AM Central Time (US and Canada)
 \n\nRegister in advance for this meeting:\nhttps://us02web.zoom.us/meeting
 /register/tZwkceGoqz4iHdCwjv4o_HgphlsERiXfC24N\n\nAfter registering\, you 
 will receive a confirmation email containing information about joining the
  meeting.
DTSTART;TZID=America/Chicago:20240801T093000
DTEND;TZID=America/Chicago:20240801T103000
LOCATION:https://us02web.zoom.us/meeting/register/tZwkceGoqz4iHdCwjv4o_Hgph
 lsERiXfC24N
SUMMARY:Some Pets | An Interactive Preschool Class
END:VEVENT
END:VCALENDAR
