BEGIN:VCALENDAR
VERSION:2.0
PRODID:-//midwestchildcare.org//NONSGML kigkonsult.se iCalcreator 2.30.10//
CALSCALE:GREGORIAN
METHOD:PUBLISH
UID:c4ca3031-78a8-429e-b805-e4ab5c432a8f
X-WR-CALDESC:Benefits of Increasing Plant Based Foods\n\n1. Please register
  for Benefits of Increasing Plant Based Foods on Jul 22\, 2024 7:00 PM CDT
  at:\n\nhttps://attendee.gotowebinar.com/register/7132135445903786584\n\nA
 fter registering\, you will receive a confirmation email containing inform
 ation about joining the webinar.
X-WR-RELCALID:77cdce6e316bba515a92b84b38d88e50
X-WR-TIMEZONE:America/Chicago
BEGIN:VTIMEZONE
TZID:America/Chicago
BEGIN:STANDARD
TZNAME:CST
DTSTART:20231105T020000
TZOFFSETFROM:-0500
TZOFFSETTO:-0600
RDATE:20241103T020000
RDATE:20251102T020000
END:STANDARD
BEGIN:DAYLIGHT
TZNAME:CDT
DTSTART:20240310T020000
TZOFFSETFROM:-0600
TZOFFSETTO:-0500
RDATE:20250309T020000
END:DAYLIGHT
END:VTIMEZONE
BEGIN:VEVENT
UID:2c9c8535-79fc-46a4-b95b-7fe528afbccf
DTSTAMP:20260421T160113Z
DESCRIPTION:Benefits of Increasing Plant Based Foods\n\n1. Please register 
 for Benefits of Increasing Plant Based Foods on Jul 22\, 2024 7:00 PM CDT 
 at:\n\nhttps://attendee.gotowebinar.com/register/7132135445903786584\n\nAf
 ter registering\, you will receive a confirmation email containing informa
 tion about joining the webinar.
DTSTART;TZID=America/Chicago:20240722T190000
DTEND;TZID=America/Chicago:20240722T200000
LOCATION:https://attendee.gotowebinar.com/register/7132135445903786584
SUMMARY:Benefits of Increasing Plant Based Foods
END:VEVENT
END:VCALENDAR
