BEGIN:VCALENDAR
VERSION:2.0
PRODID:-//midwestchildcare.org//NONSGML kigkonsult.se iCalcreator 2.30.10//
CALSCALE:GREGORIAN
METHOD:PUBLISH
UID:4673d3b5-15b4-4556-9408-b480f9f4736c
X-WR-CALDESC:HSI Pediatric First Aid | CPR AED Child/Infant/Adult (2020)\n
 \nCLASS NUMBER:	31950929\n\nCLASS TYPE:	Classroom Training\n\nDESCRIPTION:	HS
 I Pediatric First Aid | CPR AED Child/Infant/Adult (2020)\n\nLOCATION:	\n72
 00 S 84th St\nLaVista\, NE 68128\n\nDATE/TIME:	07/18/2024\, 6:00 PM - 10:00
  PM\n\nhttps://otis.osmanager4.com/#/openEnrollment?co=1&cid=4304675
X-WR-RELCALID:b7a1c954ab6392fd4283dbe69ae272c4
X-WR-TIMEZONE:America/Chicago
BEGIN:VTIMEZONE
TZID:America/Chicago
BEGIN:STANDARD
TZNAME:CST
DTSTART:20231105T020000
TZOFFSETFROM:-0500
TZOFFSETTO:-0600
RDATE:20241103T020000
RDATE:20251102T020000
END:STANDARD
BEGIN:DAYLIGHT
TZNAME:CDT
DTSTART:20240310T020000
TZOFFSETFROM:-0600
TZOFFSETTO:-0500
RDATE:20250309T020000
END:DAYLIGHT
END:VTIMEZONE
BEGIN:VEVENT
UID:e2e3eb75-bee8-4f51-9e54-3fadec14b1d1
DTSTAMP:20260421T160150Z
DESCRIPTION:HSI Pediatric First Aid | CPR AED Child/Infant/Adult (2020)\n\n
 CLASS NUMBER:	31950929\n\nCLASS TYPE:	Classroom Training\n\nDESCRIPTION:	HSI 
 Pediatric First Aid | CPR AED Child/Infant/Adult (2020)\n\nLOCATION:	\n7200
  S 84th St\nLaVista\, NE 68128\n\nDATE/TIME:	07/18/2024\, 6:00 PM - 10:00 P
 M\n\nhttps://otis.osmanager4.com/#/openEnrollment?co=1&cid=4304675
DTSTART;TZID=America/Chicago:20240718T180000
DTEND;TZID=America/Chicago:20240718T220000
LOCATION:7200 S 84th St\, LaVista\, NE 68128 US
SUMMARY:HSI Pediatric First Aid | CPR AED Child/Infant/Adult (2020)
END:VEVENT
END:VCALENDAR
