BEGIN:VCALENDAR
VERSION:2.0
PRODID:-//midwestchildcare.org//NONSGML kigkonsult.se iCalcreator 2.30.10//
CALSCALE:GREGORIAN
METHOD:PUBLISH
UID:b34120ea-7299-464b-894e-1d59eb1c1031
X-WR-CALDESC:Chu's Days at the Beach: An Interactive Preschool Class\n\n1. 
 You are invited to a Zoom meeting.\nWhen: Jul 18\, 2024 09:00 AM Central T
 ime (US and Canada)\n\nRegister in advance for this meeting:\nhttps://us02
 web.zoom.us/meeting/register/tZwrceioqTooG931XzWFcZNjrkLCAVSYOxNY\n\nAfter
  registering\, you will receive a confirmation email containing informatio
 n about joining the meeting.
X-WR-RELCALID:9c55c5393dabf1f74d42652cbf315ad5
X-WR-TIMEZONE:America/Chicago
BEGIN:VTIMEZONE
TZID:America/Chicago
BEGIN:STANDARD
TZNAME:CST
DTSTART:20231105T020000
TZOFFSETFROM:-0500
TZOFFSETTO:-0600
RDATE:20241103T020000
RDATE:20251102T020000
END:STANDARD
BEGIN:DAYLIGHT
TZNAME:CDT
DTSTART:20240310T020000
TZOFFSETFROM:-0600
TZOFFSETTO:-0500
RDATE:20250309T020000
END:DAYLIGHT
END:VTIMEZONE
BEGIN:VEVENT
UID:1760a70a-7f45-4039-884f-68c9bc666e4d
DTSTAMP:20260421T155648Z
DESCRIPTION:Chu's Days at the Beach: An Interactive Preschool Class\n\n1. Y
 ou are invited to a Zoom meeting.\nWhen: Jul 18\, 2024 09:00 AM Central Ti
 me (US and Canada)\n\nRegister in advance for this meeting:\nhttps://us02w
 eb.zoom.us/meeting/register/tZwrceioqTooG931XzWFcZNjrkLCAVSYOxNY\n\nAfter 
 registering\, you will receive a confirmation email containing information
  about joining the meeting.
DTSTART;TZID=America/Chicago:20240718T090000
DTEND;TZID=America/Chicago:20240718T100000
LOCATION:https://us02web.zoom.us/meeting/register/tZwrceioqTooG931XzWFcZNjr
 kLCAVSYOxNY
SUMMARY:Chu's Days at the Beach | An Interactive Preschool Class
END:VEVENT
END:VCALENDAR
