BEGIN:VCALENDAR
VERSION:2.0
PRODID:-//midwestchildcare.org//NONSGML kigkonsult.se iCalcreator 2.30.10//
CALSCALE:GREGORIAN
METHOD:PUBLISH
UID:4d90c7a3-1aa5-40c4-8e38-d6ad33a9b907
X-WR-CALDESC:Ten Rules of Being a Superhero: An Interactive Preschool Class
 \nTime: Jun 27\, 2024 10:00 AM Central Time (US and Canada)\n\nJoin Zoom M
 eeting\nhttps://us02web.zoom.us/j/88696314873\n\nMeeting ID: 886 9631 4873
X-WR-RELCALID:c6df7d44791080c6b3c93eeaba3559c9
X-WR-TIMEZONE:America/Chicago
BEGIN:VTIMEZONE
TZID:America/Chicago
BEGIN:STANDARD
TZNAME:CST
DTSTART:20231105T020000
TZOFFSETFROM:-0500
TZOFFSETTO:-0600
RDATE:20241103T020000
RDATE:20251102T020000
END:STANDARD
BEGIN:DAYLIGHT
TZNAME:CDT
DTSTART:20240310T020000
TZOFFSETFROM:-0600
TZOFFSETTO:-0500
RDATE:20250309T020000
END:DAYLIGHT
END:VTIMEZONE
BEGIN:VEVENT
UID:b007fec4-2686-4a23-88f0-b6e6dbc7cd2d
DTSTAMP:20260421T174334Z
DESCRIPTION:Ten Rules of Being a Superhero: An Interactive Preschool Class
 \nTime: Jun 27\, 2024 10:00 AM Central Time (US and Canada)\n\nJoin Zoom M
 eeting\nhttps://us02web.zoom.us/j/88696314873\n\nMeeting ID: 886 9631 4873
DTSTART;TZID=America/Chicago:20240627T100000
DTEND;TZID=America/Chicago:20240627T110000
LOCATION:https://us02web.zoom.us/j/88696314873
SUMMARY:Ten Rules of Being a Superhero | An Interactive Preschool Class
END:VEVENT
END:VCALENDAR
